Workbook

Sheet Sheet1
A1: 绥阳县2025年公开招聘事业单位工作人员总成绩及进入下一环节人员名单
A2: 序号 | B2: 面试准考证号 | C2: 报考单位 | D2: 岗位代码 | E2: 笔试成绩 | F2: 折算后笔试成绩 （笔试成绩÷ 3×60%） | G2: 面试成绩 | H2: 折算后面试成绩（面试成绩×40%） | I2: 总成绩 | J2: 是否进入下一环节 | K2: 备注
A3: 1 | B3: 202506140501 | C3: =VLOOKUP($B3,[1]面试人员名单!$E$2:$O$432,5,0) -> 0001绥阳县人民医院 | D3: =VLOOKUP($B3,[1]面试人员名单!$E$2:$O$432,7,0) -> 22109000101 | E3: =VLOOKUP($B3,[1]面试人员名单!$E$2:$O$432,9,0) -> 160.9 | F3: =ROUND(E3/3*0.6,2) -> 32.18 | G3: =VLOOKUP($B3,[1]面试人员名单!$E$2:$O$432,11,0) -> 75.7 | H3: =IF(G3="缺考","缺考",ROUND(G3*0.4,2)) -> 30.28 | I3: =SUM(F3,H3) -> 62.46 | J3: =IF(VLOOKUP($B3,[1]面试人员名单!$E$2:$T$432,14,0)=0,"",VLOOKUP($B3,[1]面试人员名单!$E$2:$T$432,15,0)) -> 是
A4: 2 | B4: 202506140502 | C4: =VLOOKUP($B4,[1]面试人员名单!$E$2:$O$432,5,0) -> 0001绥阳县人民医院 | D4: =VLOOKUP($B4,[1]面试人员名单!$E$2:$O$432,7,0) -> 22109000101 | E4: =VLOOKUP($B4,[1]面试人员名单!$E$2:$O$432,9,0) -> 154.5 | F4: =ROUND(E4/3*0.6,2) -> 30.9 | G4: =VLOOKUP($B4,[1]面试人员名单!$E$2:$O$432,11,0) -> 74.4 | H4: =IF(G4="缺考","缺考",ROUND(G4*0.4,2)) -> 29.76 | I4: =SUM(F4,H4) -> 60.66 | J4: 否
A5: 3 | B5: 202506140503 | C5: =VLOOKUP($B5,[1]面试人员名单!$E$2:$O$432,5,0) -> 0001绥阳县人民医院 | D5: =VLOOKUP($B5,[1]面试人员名单!$E$2:$O$432,7,0) -> 22109000101 | E5: =VLOOKUP($B5,[1]面试人员名单!$E$2:$O$432,9,0) -> 142.1 | F5: =ROUND(E5/3*0.6,2) -> 28.42 | G5: =VLOOKUP($B5,[1]面试人员名单!$E$2:$O$432,11,0) -> 75.8 | H5: =IF(G5="缺考","缺考",ROUND(G5*0.4,2)) -> 30.32 | I5: =SUM(F5,H5) -> 58.74 | J5: 否
A6: 4 | B6: 202506140506 | C6: =VLOOKUP($B6,[1]面试人员名单!$E$2:$O$432,5,0) -> 0001绥阳县人民医院 | D6: =VLOOKUP($B6,[1]面试人员名单!$E$2:$O$432,7,0) -> 22109000102 | E6: =VLOOKUP($B6,[1]面试人员名单!$E$2:$O$432,9,0) -> 161.4 | F6: =ROUND(E6/3*0.6,2) -> 32.28 | G6: =VLOOKUP($B6,[1]面试人员名单!$E$2:$O$432,11,0) -> 80.92 | H6: =IF(G6="缺考","缺考",ROUND(G6*0.4,2)) -> 32.37 | I6: =SUM(F6,H6) -> 64.65 | J6: =IF(VLOOKUP($B6,[1]面试人员名单!$E$2:$T$432,14,0)=0,"",VLOOKUP($B6,[1]面试人员名单!$E$2:$T$432,15,0)) -> 是
A7: 5 | B7: 202506140505 | C7: =VLOOKUP($B7,[1]面试人员名单!$E$2:$O$432,5,0) -> 0001绥阳县人民医院 | D7: =VLOOKUP($B7,[1]面试人员名单!$E$2:$O$432,7,0) -> 22109000102 | E7: =VLOOKUP($B7,[1]面试人员名单!$E$2:$O$432,9,0) -> 162.5 | F7: =ROUND(E7/3*0.6,2) -> 32.5 | G7: =VLOOKUP($B7,[1]面试人员名单!$E$2:$O$432,11,0) -> 76.4 | H7: =IF(G7="缺考","缺考",ROUND(G7*0.4,2)) -> 30.56 | I7: =SUM(F7,H7) -> 63.06 | J7: 否
A8: 6 | B8: 202506140504 | C8: =VLOOKUP($B8,[1]面试人员名单!$E$2:$O$432,5,0) -> 0001绥阳县人民医院 | D8: =VLOOKUP($B8,[1]面试人员名单!$E$2:$O$432,7,0) -> 22109000102 | E8: =VLOOKUP($B8,[1]面试人员名单!$E$2:$O$432,9,0) -> 165 | F8: =ROUND(E8/3*0.6,2) -> 33 | G8: =VLOOKUP($B8,[1]面试人员名单!$E$2:$O$432,11,0) -> 68.8 | H8: =IF(G8="缺考","缺考",ROUND(G8*0.4,2)) -> 27.52 | I8: =SUM(F8,H8) -> 60.52 | J8: 否
A9: 7 | B9: 202506140507 | C9: =VLOOKUP($B9,[1]面试人员名单!$E$2:$O$432,5,0) -> 0001绥阳县人民医院 | D9: =VLOOKUP($B9,[1]面试人员名单!$E$2:$O$432,7,0) -> 22109000103 | E9: =VLOOKUP($B9,[1]面试人员名单!$E$2:$O$432,9,0) -> 157.8 | F9: =ROUND(E9/3*0.6,2) -> 31.56 | G9: =VLOOKUP($B9,[1]面试人员名单!$E$2:$O$432,11,0) -> 74.52 | H9: =IF(G9="缺考","缺考",ROUND(G9*0.4,2)) -> 29.81 | I9: =SUM(F9,H9) -> 61.37 | J9: =IF(VLOOKUP($B9,[1]面试人员名单!$E$2:$T$432,14,0)=0,"",VLOOKUP($B9,[1]面试人员名单!$E$2:$T$432,15,0)) -> 是
A10: 8 | B10: 202506140508 | C10: =VLOOKUP($B10,[1]面试人员名单!$E$2:$O$432,5,0) -> 0001绥阳县人民医院 | D10: =VLOOKUP($B10,[1]面试人员名单!$E$2:$O$432,7,0) -> 22109000104 | E10: =VLOOKUP($B10,[1]面试人员名单!$E$2:$O$432,9,0) -> 158.6 | F10: =ROUND(E10/3*0.6,2) -> 31.72 | G10: =VLOOKUP($B10,[1]面试人员名单!$E$2:$O$432,11,0) -> 73.2 | H10: =IF(G10="缺考","缺考",ROUND(G10*0.4,2)) -> 29.28 | I10: =SUM(F10,H10) -> 61 | J10: =IF(VLOOKUP($B10,[1]面试人员名单!$E$2:$T$432,14,0)=0,"",VLOOKUP($B10,[1]面试人员名单!$E$2:$T$432,15,0)) -> 是
A11: 9 | B11: 202506140509 | C11: =VLOOKUP($B11,[1]面试人员名单!$E$2:$O$432,5,0) -> 0001绥阳县人民医院 | D11: =VLOOKUP($B11,[1]面试人员名单!$E$2:$O$432,7,0) -> 22109000105 | E11: =VLOOKUP($B11,[1]面试人员名单!$E$2:$O$432,9,0) -> 173.3 | F11: =ROUND(E11/3*0.6,2) -> 34.66 | G11: =VLOOKUP($B11,[1]面试人员名单!$E$2:$O$432,11,0) -> 75 | H11: =IF(G11="缺考","缺考",ROUND(G11*0.4,2)) -> 30 | I11: =SUM(F11,H11) -> 64.66 | J11: =IF(VLOOKUP($B11,[1]面试人员名单!$E$2:$T$432,14,0)=0,"",VLOOKUP($B11,[1]面试人员名单!$E$2:$T$432,15,0)) -> 是
A12: 10 | B12: 202506140510 | C12: =VLOOKUP($B12,[1]面试人员名单!$E$2:$O$432,5,0) -> 0001绥阳县人民医院 | D12: =VLOOKUP($B12,[1]面试人员名单!$E$2:$O$432,7,0) -> 22109000105 | E12: =VLOOKUP($B12,[1]面试人员名单!$E$2:$O$432,9,0) -> 142.7 | F12: =ROUND(E12/3*0.6,2) -> 28.54 | G12: =VLOOKUP($B12,[1]面试人员名单!$E$2:$O$432,11,0) -> 73.6 | H12: =IF(G12="缺考","缺考",ROUND(G12*0.4,2)) -> 29.44 | I12: =SUM(F12,H12) -> 57.98 | J12: 否
A13: 11 | B13: 202506140511 | C13: =VLOOKUP($B13,[1]面试人员名单!$E$2:$O$432,5,0) -> 0001绥阳县人民医院 | D13: =VLOOKUP($B13,[1]面试人员名单!$E$2:$O$432,7,0) -> 22109000106 | E13: =VLOOKUP($B13,[1]面试人员名单!$E$2:$O$432,9,0) -> 170.2 | F13: =ROUND(E13/3*0.6,2) -> 34.04 | G13: =VLOOKUP($B13,[1]面试人员名单!$E$2:$O$432,11,0) -> 75.96 | H13: =IF(G13="缺考","缺考",ROUND(G13*0.4,2)) -> 30.38 | I13: =SUM(F13,H13) -> 64.42 | J13: =IF(VLOOKUP($B13,[1]面试人员名单!$E$2:$T$432,14,0)=0,"",VLOOKUP($B13,[1]面试人员名单!$E$2:$T$432,15,0)) -> 是
A14: 12 | B14: 202506140512 | C14: =VLOOKUP($B14,[1]面试人员名单!$E$2:$O$432,5,0) -> 0001绥阳县人民医院 | D14: =VLOOKUP($B14,[1]面试人员名单!$E$2:$O$432,7,0) -> 22109000106 | E14: =VLOOKUP($B14,[1]面试人员名单!$E$2:$O$432,9,0) -> 157.3 | F14: =ROUND(E14/3*0.6,2) -> 31.46 | G14: =VLOOKUP($B14,[1]面试人员名单!$E$2:$O$432,11,0) -> 76.8 | H14: =IF(G14="缺考","缺考",ROUND(G14*0.4,2)) -> 30.72 | I14: =SUM(F14,H14) -> 62.18 | J14: 否
A15: 13 | B15: 202506140513 | C15: =VLOOKUP($B15,[1]面试人员名单!$E$2:$O$432,5,0) -> 0001绥阳县人民医院 | D15: =VLOOKUP($B15,[1]面试人员名单!$E$2:$O$432,7,0) -> 22109000106 | E15: =VLOOKUP($B15,[1]面试人员名单!$E$2:$O$432,9,0) -> 154.2 | F15: =ROUND(E15/3*0.6,2) -> 30.84 | G15: =VLOOKUP($B15,[1]面试人员名单!$E$2:$O$432,11,0) -> 75.6 | H15: =IF(G15="缺考","缺考",ROUND(G15*0.4,2)) -> 30.24 | I15: =SUM(F15,H15) -> 61.08 | J15: 否
A16: 14 | B16: 202506140514 | C16: =VLOOKUP($B16,[1]面试人员名单!$E$2:$O$432,5,0) -> 0001绥阳县人民医院 | D16: =VLOOKUP($B16,[1]面试人员名单!$E$2:$O$432,7,0) -> 22109000107 | E16: =VLOOKUP($B16,[1]面试人员名单!$E$2:$O$432,9,0) -> 172.7 | F16: =ROUND(E16/3*0.6,2) -> 34.54 | G16: =VLOOKUP($B16,[1]面试人员名单!$E$2:$O$432,11,0) -> 72.8 | H16: =IF(G16="缺考","缺考",ROUND(G16*0.4,2)) -> 29.12 | I16: =SUM(F16,H16) -> 63.66 | J16: =IF(VLOOKUP($B16,[1]面试人员名单!$E$2:$T$432,14,0)=0,"",VLOOKUP($B16,[1]面试人员名单!$E$2:$T$432,15,0)) -> 是
A17: 15 | B17: 202506140515 | C17: =VLOOKUP($B17,[1]面试人员名单!$E$2:$O$432,5,0) -> 0001绥阳县人民医院 | D17: =VLOOKUP($B17,[1]面试人员名单!$E$2:$O$432,7,0) -> 22109000107 | E17: =VLOOKUP($B17,[1]面试人员名单!$E$2:$O$432,9,0) -> 150.4 | F17: =ROUND(E17/3*0.6,2) -> 30.08 | G17: =VLOOKUP($B17,[1]面试人员名单!$E$2:$O$432,11,0) -> 78.6 | H17: =IF(G17="缺考","缺考",ROUND(G17*0.4,2)) -> 31.44 | I17: =SUM(F17,H17) -> 61.52 | J17: =IF(VLOOKUP($B17,[1]面试人员名单!$E$2:$T$432,14,0)=0,"",VLOOKUP($B17,[1]面试人员名单!$E$2:$T$432,15,0)) -> 是
A18: 16 | B18: 202506140516 | C18: =VLOOKUP($B18,[1]面试人员名单!$E$2:$O$432,5,0) -> 0001绥阳县人民医院 | D18: =VLOOKUP($B18,[1]面试人员名单!$E$2:$O$432,7,0) -> 22109000107 | E18: =VLOOKUP($B18,[1]面试人员名单!$E$2:$O$432,9,0) -> 146 | F18: =ROUND(E18/3*0.6,2) -> 29.2 | G18: =VLOOKUP($B18,[1]面试人员名单!$E$2:$O$432,11,0) -> 71.4 | H18: =IF(G18="缺考","缺考",ROUND(G18*0.4,2)) -> 28.56 | I18: =SUM(F18,H18) -> 57.76 | J18: 否
A19: 17 | B19: 202506140517 | C19: =VLOOKUP($B19,[1]面试人员名单!$E$2:$O$432,5,0) -> 0001绥阳县人民医院 | D19: =VLOOKUP($B19,[1]面试人员名单!$E$2:$O$432,7,0) -> 22109000107 | E19: =VLOOKUP($B19,[1]面试人员名单!$E$2:$O$432,9,0) -> 139.7 | F19: =ROUND(E19/3*0.6,2) -> 27.94 | G19: =VLOOKUP($B19,[1]面试人员名单!$E$2:$O$432,11,0) -> 缺考 | H19: =IF(G19="缺考","缺考",ROUND(G19*0.4,2)) -> 缺考 | I19: =SUM(F19,H19) -> 27.94 | J19: 否
A20: 18 | B20: 202506140518 | C20: =VLOOKUP($B20,[1]面试人员名单!$E$2:$O$432,5,0) -> 0001绥阳县人民医院 | D20: =VLOOKUP($B20,[1]面试人员名单!$E$2:$O$432,7,0) -> 22109000108 | E20: =VLOOKUP($B20,[1]面试人员名单!$E$2:$O$432,9,0) -> 163.9 | F20: =ROUND(E20/3*0.6,2) -> 32.78 | G20: =VLOOKUP($B20,[1]面试人员名单!$E$2:$O$432,11,0) -> 74 | H20: =IF(G20="缺考","缺考",ROUND(G20*0.4,2)) -> 29.6 | I20: =SUM(F20,H20) -> 62.38 | J20: =IF(VLOOKUP($B20,[1]面试人员名单!$E$2:$T$432,14,0)=0,"",VLOOKUP($B20,[1]面试人员名单!$E$2:$T$432,15,0)) -> 是
A21: 19 | B21: 202506140519 | C21: =VLOOKUP($B21,[1]面试人员名单!$E$2:$O$432,5,0) -> 0001绥阳县人民医院 | D21: =VLOOKUP($B21,[1]面试人员名单!$E$2:$O$432,7,0) -> 22109000110 | E21: =VLOOKUP($B21,[1]面试人员名单!$E$2:$O$432,9,0) -> 154 | F21: =ROUND(E21/3*0.6,2) -> 30.8 | G21: =VLOOKUP($B21,[1]面试人员名单!$E$2:$O$432,11,0) -> 缺考 | H21: =IF(G21="缺考","缺考",ROUND(G21*0.4,2)) -> 缺考 | I21: =SUM(F21,H21) -> 30.8 | J21: 否
A22: 20 | B22: 202506140520 | C22: =VLOOKUP($B22,[1]面试人员名单!$E$2:$O$432,5,0) -> 0001绥阳县人民医院 | D22: =VLOOKUP($B22,[1]面试人员名单!$E$2:$O$432,7,0) -> 22109000111 | E22: =VLOOKUP($B22,[1]面试人员名单!$E$2:$O$432,9,0) -> 157.9 | F22: =ROUND(E22/3*0.6,2) -> 31.58 | G22: =VLOOKUP($B22,[1]面试人员名单!$E$2:$O$432,11,0) -> 75.64 | H22: =IF(G22="缺考","缺考",ROUND(G22*0.4,2)) -> 30.26 | I22: =SUM(F22,H22) -> 61.84 | J22: =IF(VLOOKUP($B22,[1]面试人员名单!$E$2:$T$432,14,0)=0,"",VLOOKUP($B22,[1]面试人员名单!$E$2:$T$432,15,0)) -> 是
A23: 21 | B23: 202506140521 | C23: =VLOOKUP($B23,[1]面试人员名单!$E$2:$O$432,5,0) -> 0001绥阳县人民医院 | D23: =VLOOKUP($B23,[1]面试人员名单!$E$2:$O$432,7,0) -> 22109000112 | E23: =VLOOKUP($B23,[1]面试人员名单!$E$2:$O$432,9,0) -> 157.5 | F23: =ROUND(E23/3*0.6,2) -> 31.5 | G23: =VLOOKUP($B23,[1]面试人员名单!$E$2:$O$432,11,0) -> 缺考 | H23: =IF(G23="缺考","缺考",ROUND(G23*0.4,2)) -> 缺考 | I23: =SUM(F23,H23) -> 31.5 | J23: 否
A24: 22 | B24: 202506140524 | C24: =VLOOKUP($B24,[1]面试人员名单!$E$2:$O$432,5,0) -> 0001绥阳县人民医院 | D24: =VLOOKUP($B24,[1]面试人员名单!$E$2:$O$432,7,0) -> 22109000113 | E24: =VLOOKUP($B24,[1]面试人员名单!$E$2:$O$432,9,0) -> 166.3 | F24: =ROUND(E24/3*0.6,2) -> 33.26 | G24: =VLOOKUP($B24,[1]面试人员名单!$E$2:$O$432,11,0) -> 80.94 | H24: =IF(G24="缺考","缺考",ROUND(G24*0.4,2)) -> 32.38 | I24: =SUM(F24,H24) -> 65.64 | J24: =IF(VLOOKUP($B24,[1]面试人员名单!$E$2:$T$432,14,0)=0,"",VLOOKUP($B24,[1]面试人员名单!$E$2:$T$432,15,0)) -> 是
A25: 23 | B25: 202506140522 | C25: =VLOOKUP($B25,[1]面试人员名单!$E$2:$O$432,5,0) -> 0001绥阳县人民医院 | D25: =VLOOKUP($B25,[1]面试人员名单!$E$2:$O$432,7,0) -> 22109000113 | E25: =VLOOKUP($B25,[1]面试人员名单!$E$2:$O$432,9,0) -> 171.3 | F25: =ROUND(E25/3*0.6,2) -> 34.26 | G25: =VLOOKUP($B25,[1]面试人员名单!$E$2:$O$432,11,0) -> 77.3 | H25: =IF(G25="缺考","缺考",ROUND(G25*0.4,2)) -> 30.92 | I25: =SUM(F25,H25) -> 65.18 | J25: 否
A26: 24 | B26: 202506140523 | C26: =VLOOKUP($B26,[1]面试人员名单!$E$2:$O$432,5,0) -> 0001绥阳县人民医院 | D26: =VLOOKUP($B26,[1]面试人员名单!$E$2:$O$432,7,0) -> 22109000113 | E26: =VLOOKUP($B26,[1]面试人员名单!$E$2:$O$432,9,0) -> 169.9 | F26: =ROUND(E26/3*0.6,2) -> 33.98 | G26: =VLOOKUP($B26,[1]面试人员名单!$E$2:$O$432,11,0) -> 77.5 | H26: =IF(G26="缺考","缺考",ROUND(G26*0.4,2)) -> 31 | I26: =SUM(F26,H26) -> 64.98 | J26: 否
A27: 25 | B27: 202506140525 | C27: =VLOOKUP($B27,[1]面试人员名单!$E$2:$O$432,5,0) -> 0001绥阳县人民医院 | D27: =VLOOKUP($B27,[1]面试人员名单!$E$2:$O$432,7,0) -> 22109000114 | E27: =VLOOKUP($B27,[1]面试人员名单!$E$2:$O$432,9,0) -> 185 | F27: =ROUND(E27/3*0.6,2) -> 37 | G27: =VLOOKUP($B27,[1]面试人员名单!$E$2:$O$432,11,0) -> 79.64 | H27: =IF(G27="缺考","缺考",ROUND(G27*0.4,2)) -> 31.86 | I27: =SUM(F27,H27) -> 68.86 | J27: =IF(VLOOKUP($B27,[1]面试人员名单!$E$2:$T$432,14,0)=0,"",VLOOKUP($B27,[1]面试人员名单!$E$2:$T$432,15,0)) -> 是
A28: 26 | B28: 202506140526 | C28: =VLOOKUP($B28,[1]面试人员名单!$E$2:$O$432,5,0) -> 0001绥阳县人民医院 | D28: =VLOOKUP($B28,[1]面试人员名单!$E$2:$O$432,7,0) -> 22109000114 | E28: =VLOOKUP($B28,[1]面试人员名单!$E$2:$O$432,9,0) -> 178.6 | F28: =ROUND(E28/3*0.6,2) -> 35.72 | G28: =VLOOKUP($B28,[1]面试人员名单!$E$2:$O$432,11,0) -> 79.8 | H28: =IF(G28="缺考","缺考",ROUND(G28*0.4,2)) -> 31.92 | I28: =SUM(F28,H28) -> 67.64 | J28: =IF(VLOOKUP($B28,[1]面试人员名单!$E$2:$T$432,14,0)=0,"",VLOOKUP($B28,[1]面试人员名单!$E$2:$T$432,15,0)) -> 是
A29: 27 | B29: 202506140527 | C29: =VLOOKUP($B29,[1]面试人员名单!$E$2:$O$432,5,0) -> 0001绥阳县人民医院 | D29: =VLOOKUP($B29,[1]面试人员名单!$E$2:$O$432,7,0) -> 22109000114 | E29: =VLOOKUP($B29,[1]面试人员名单!$E$2:$O$432,9,0) -> 168.7 | F29: =ROUND(E29/3*0.6,2) -> 33.74 | G29: =VLOOKUP($B29,[1]面试人员名单!$E$2:$O$432,11,0) -> 80 | H29: =IF(G29="缺考","缺考",ROUND(G29*0.4,2)) -> 32 | I29: =SUM(F29,H29) -> 65.74 | J29: 否
A30: 28 | B30: 202506140529 | C30: =VLOOKUP($B30,[1]面试人员名单!$E$2:$O$432,5,0) -> 0001绥阳县人民医院 | D30: =VLOOKUP($B30,[1]面试人员名单!$E$2:$O$432,7,0) -> 22109000114 | E30: =VLOOKUP($B30,[1]面试人员名单!$E$2:$O$432,9,0) -> 164.6 | F30: =ROUND(E30/3*0.6,2) -> 32.92 | G30: =VLOOKUP($B30,[1]面试人员名单!$E$2:$O$432,11,0) -> 76 | H30: =IF(G30="缺考","缺考",ROUND(G30*0.4,2)) -> 30.4 | I30: =SUM(F30,H30) -> 63.32 | J30: 否
A31: 29 | B31: 202506140528 | C31: =VLOOKUP($B31,[1]面试人员名单!$E$2:$O$432,5,0) -> 0001绥阳县人民医院 | D31: =VLOOKUP($B31,[1]面试人员名单!$E$2:$O$432,7,0) -> 22109000114 | E31: =VLOOKUP($B31,[1]面试人员名单!$E$2:$O$432,9,0) -> 165.3 | F31: =ROUND(E31/3*0.6,2) -> 33.06 | G31: =VLOOKUP($B31,[1]面试人员名单!$E$2:$O$432,11,0) -> 缺考 | H31: =IF(G31="缺考","缺考",ROUND(G31*0.4,2)) -> 缺考 | I31: =SUM(F31,H31) -> 33.06 | J31: 否
A32: 30 | B32: 202506140530 | C32: =VLOOKUP($B32,[1]面试人员名单!$E$2:$O$432,5,0) -> 0001绥阳县人民医院 | D32: =VLOOKUP($B32,[1]面试人员名单!$E$2:$O$432,7,0) -> 22109000114 | E32: =VLOOKUP($B32,[1]面试人员名单!$E$2:$O$432,9,0) -> 163.7 | F32: =ROUND(E32/3*0.6,2) -> 32.74 | G32: =VLOOKUP($B32,[1]面试人员名单!$E$2:$O$432,11,0) -> 缺考 | H32: =IF(G32="缺考","缺考",ROUND(G32*0.4,2)) -> 缺考 | I32: =SUM(F32,H32) -> 32.74 | J32: 否
A33: 31 | B33: 202506140601 | C33: =VLOOKUP($B33,[1]面试人员名单!$E$2:$O$432,5,0) -> 0001绥阳县人民医院 | D33: =VLOOKUP($B33,[1]面试人员名单!$E$2:$O$432,7,0) -> 22109000115 | E33: =VLOOKUP($B33,[1]面试人员名单!$E$2:$O$432,9,0) -> 204 | F33: =ROUND(E33/3*0.6,2) -> 40.8 | G33: =VLOOKUP($B33,[1]面试人员名单!$E$2:$O$432,11,0) -> 78.6 | H33: =IF(G33="缺考","缺考",ROUND(G33*0.4,2)) -> 31.44 | I33: =SUM(F33,H33) -> 72.24 | J33: =IF(VLOOKUP($B33,[1]面试人员名单!$E$2:$T$432,14,0)=0,"",VLOOKUP($B33,[1]面试人员名单!$E$2:$T$432,15,0)) -> 是
A34: 32 | B34: 202506140602 | C34: =VLOOKUP($B34,[1]面试人员名单!$E$2:$O$432,5,0) -> 0001绥阳县人民医院 | D34: =VLOOKUP($B34,[1]面试人员名单!$E$2:$O$432,7,0) -> 22109000115 | E34: =VLOOKUP($B34,[1]面试人员名单!$E$2:$O$432,9,0) -> 201.5 | F34: =ROUND(E34/3*0.6,2) -> 40.3 | G34: =VLOOKUP($B34,[1]面试人员名单!$E$2:$O$432,11,0) -> 79.8 | H34: =IF(G34="缺考","缺考",ROUND(G34*0.4,2)) -> 31.92 | I34: =SUM(F34,H34) -> 72.22 | J34: 否
A35: 33 | B35: 202506140603 | C35: =VLOOKUP($B35,[1]面试人员名单!$E$2:$O$432,5,0) -> 0001绥阳县人民医院 | D35: =VLOOKUP($B35,[1]面试人员名单!$E$2:$O$432,7,0) -> 22109000115 | E35: =VLOOKUP($B35,[1]面试人员名单!$E$2:$O$432,9,0) -> 187.5 | F35: =ROUND(E35/3*0.6,2) -> 37.5 | G35: =VLOOKUP($B35,[1]面试人员名单!$E$2:$O$432,11,0) -> 77.8 | H35: =IF(G35="缺考","缺考",ROUND(G35*0.4,2)) -> 31.12 | I35: =SUM(F35,H35) -> 68.62 | J35: 否
A36: 34 | B36: 202506140604 | C36: =VLOOKUP($B36,[1]面试人员名单!$E$2:$O$432,5,0) -> 0001绥阳县人民医院 | D36: =VLOOKUP($B36,[1]面试人员名单!$E$2:$O$432,7,0) -> 22109000116 | E36: =VLOOKUP($B36,[1]面试人员名单!$E$2:$O$432,9,0) -> 207.5 | F36: =ROUND(E36/3*0.6,2) -> 41.5 | G36: =VLOOKUP($B36,[1]面试人员名单!$E$2:$O$432,11,0) -> 84 | H36: =IF(G36="缺考","缺考",ROUND(G36*0.4,2)) -> 33.6 | I36: =SUM(F36,H36) -> 75.1 | J36: =IF(VLOOKUP($B36,[1]面试人员名单!$E$2:$T$432,14,0)=0,"",VLOOKUP($B36,[1]面试人员名单!$E$2:$T$432,15,0)) -> 是
A37: 35 | B37: 202506140606 | C37: =VLOOKUP($B37,[1]面试人员名单!$E$2:$O$432,5,0) -> 0001绥阳县人民医院 | D37: =VLOOKUP($B37,[1]面试人员名单!$E$2:$O$432,7,0) -> 22109000116 | E37: =VLOOKUP($B37,[1]面试人员名单!$E$2:$O$432,9,0) -> 199.5 | F37: =ROUND(E37/3*0.6,2) -> 39.9 | G37: =VLOOKUP($B37,[1]面试人员名单!$E$2:$O$432,11,0) -> 82 | H37: =IF(G37="缺考","缺考",ROUND(G37*0.4,2)) -> 32.8 | I37: =SUM(F37,H37) -> 72.7 | J37: 否
A38: 36 | B38: 202506140605 | C38: =VLOOKUP($B38,[1]面试人员名单!$E$2:$O$432,5,0) -> 0001绥阳县人民医院 | D38: =VLOOKUP($B38,[1]面试人员名单!$E$2:$O$432,7,0) -> 22109000116 | E38: =VLOOKUP($B38,[1]面试人员名单!$E$2:$O$432,9,0) -> 201 | F38: =ROUND(E38/3*0.6,2) -> 40.2 | G38: =VLOOKUP($B38,[1]面试人员名单!$E$2:$O$432,11,0) -> 79 | H38: =IF(G38="缺考","缺考",ROUND(G38*0.4,2)) -> 31.6 | I38: =SUM(F38,H38) -> 71.8 | J38: 否
A39: 37 | B39: 202506140609 | C39: =VLOOKUP($B39,[1]面试人员名单!$E$2:$O$432,5,0) -> 0002绥阳县中医医院 | D39: =VLOOKUP($B39,[1]面试人员名单!$E$2:$O$432,7,0) -> 22109000201 | E39: =VLOOKUP($B39,[1]面试人员名单!$E$2:$O$432,9,0) -> 157.5 | F39: =ROUND(E39/3*0.6,2) -> 31.5 | G39: =VLOOKUP($B39,[1]面试人员名单!$E$2:$O$432,11,0) -> 81.4 | H39: =IF(G39="缺考","缺考",ROUND(G39*0.4,2)) -> 32.56 | I39: =SUM(F39,H39) -> 64.06 | J39: =IF(VLOOKUP($B39,[1]面试人员名单!$E$2:$T$432,14,0)=0,"",VLOOKUP($B39,[1]面试人员名单!$E$2:$T$432,15,0)) -> 是
A40: 38 | B40: 202506140608 | C40: =VLOOKUP($B40,[1]面试人员名单!$E$2:$O$432,5,0) -> 0002绥阳县中医医院 | D40: =VLOOKUP($B40,[1]面试人员名单!$E$2:$O$432,7,0) -> 22109000201 | E40: =VLOOKUP($B40,[1]面试人员名单!$E$2:$O$432,9,0) -> 163.1 | F40: =ROUND(E40/3*0.6,2) -> 32.62 | G40: =VLOOKUP($B40,[1]面试人员名单!$E$2:$O$432,11,0) -> 76.8 | H40: =IF(G40="缺考","缺考",ROUND(G40*0.4,2)) -> 30.72 | I40: =SUM(F40,H40) -> 63.34 | J40: =IF(VLOOKUP($B40,[1]面试人员名单!$E$2:$T$432,14,0)=0,"",VLOOKUP($B40,[1]面试人员名单!$E$2:$T$432,15,0)) -> 是
...
