Workbook

Sheet Sheet1
A1: 绥阳县2025年公开招聘事业单位工作人员总成绩及进入下一环节人员名单
A2: 序号 | B2: 面试准考证号 | C2: 报考单位 | D2: 岗位代码 | E2: 笔试成绩 | F2: 折算后笔试成绩 （笔试成绩÷ 3×60%） | G2: 面试成绩 | H2: 折算后面试成绩（面试成绩×40%） | I2: 总成绩 | J2: 是否进入下一环节 | K2: 备注
A3: 1 | B3: 202506140501 | C3: =VLOOKUP($B3,[1]面试人员名单!$E$2:$O$432,5,0) -> 0001绥阳县人民医院 | D3: =VLOOKUP($B3,[1]面试人员名单!$E$2:$O$432,7,0) -> 22109000101 | E3: =VLOOKUP($B3,[1]面试人员名单!$E$2:$O$432,9,0) -> 160.9 | F3: =ROUND(E3/3*0.6,2) -> 32.18 | G3: =VLOOKUP($B3,[1]面试人员名单!$E$2:$O$432,11,0) -> 75.7 | H3: =IF(G3="缺考","缺考",ROUND(G3*0.4,2)) -> 30.28 | I3: =SUM(F3,H3) -> 62.46 | J3: =IF(VLOOKUP($B3,[1]面试人员名单!$E$2:$T$432,14,0)=0,"",VLOOKUP($B3,[1]面试人员名单!$E$2:$T$432,15,0)) -> 是
A4: 2 | B4: 202506140502 | C4: =VLOOKUP($B4,[1]面试人员名单!$E$2:$O$432,5,0) -> 0001绥阳县人民医院 | D4: =VLOOKUP($B4,[1]面试人员名单!$E$2:$O$432,7,0) -> 22109000101 | E4: =VLOOKUP($B4,[1]面试人员名单!$E$2:$O$432,9,0) -> 154.5 | F4: =ROUND(E4/3*0.6,2) -> 30.9 | G4: =VLOOKUP($B4,[1]面试人员名单!$E$2:$O$432,11,0) -> 74.4 | H4: =IF(G4="缺考","缺考",ROUND(G4*0.4,2)) -> 29.76 | I4: =SUM(F4,H4) -> 60.66 | J4: 否
A5: 3 | B5: 202506140503 | C5: =VLOOKUP($B5,[1]面试人员名单!$E$2:$O$432,5,0) -> 0001绥阳县人民医院 | D5: =VLOOKUP($B5,[1]面试人员名单!$E$2:$O$432,7,0) -> 22109000101 | E5: =VLOOKUP($B5,[1]面试人员名单!$E$2:$O$432,9,0) -> 142.1 | F5: =ROUND(E5/3*0.6,2) -> 28.42 | G5: =VLOOKUP($B5,[1]面试人员名单!$E$2:$O$432,11,0) -> 75.8 | H5: =IF(G5="缺考","缺考",ROUND(G5*0.4,2)) -> 30.32 | I5: =SUM(F5,H5) -> 58.74 | J5: 否
A6: 4 | B6: 202506140506 | C6: =VLOOKUP($B6,[1]面试人员名单!$E$2:$O$432,5,0) -> 0001绥阳县人民医院 | D6: =VLOOKUP($B6,[1]面试人员名单!$E$2:$O$432,7,0) -> 22109000102 | E6: =VLOOKUP($B6,[1]面试人员名单!$E$2:$O$432,9,0) -> 161.4 | F6: =ROUND(E6/3*0.6,2) -> 32.28 | G6: =VLOOKUP($B6,[1]面试人员名单!$E$2:$O$432,11,0) -> 80.92 | H6: =IF(G6="缺考","缺考",ROUND(G6*0.4,2)) -> 32.37 | I6: =SUM(F6,H6) -> 64.65 | J6: =IF(VLOOKUP($B6,[1]面试人员名单!$E$2:$T$432,14,0)=0,"",VLOOKUP($B6,[1]面试人员名单!$E$2:$T$432,15,0)) -> 是
A7: 5 | B7: 202506140505 | C7: =VLOOKUP($B7,[1]面试人员名单!$E$2:$O$432,5,0) -> 0001绥阳县人民医院 | D7: =VLOOKUP($B7,[1]面试人员名单!$E$2:$O$432,7,0) -> 22109000102 | E7: =VLOOKUP($B7,[1]面试人员名单!$E$2:$O$432,9,0) -> 162.5 | F7: =ROUND(E7/3*0.6,2) -> 32.5 | G7: =VLOOKUP($B7,[1]面试人员名单!$E$2:$O$432,11,0) -> 76.4 | H7: =IF(G7="缺考","缺考",ROUND(G7*0.4,2)) -> 30.56 | I7: =SUM(F7,H7) -> 63.06 | J7: 否
A8: 6 | B8: 202506140504 | C8: =VLOOKUP($B8,[1]面试人员名单!$E$2:$O$432,5,0) -> 0001绥阳县人民医院 | D8: =VLOOKUP($B8,[1]面试人员名单!$E$2:$O$432,7,0) -> 22109000102 | E8: =VLOOKUP($B8,[1]面试人员名单!$E$2:$O$432,9,0) -> 165 | F8: =ROUND(E8/3*0.6,2) -> 33 | G8: =VLOOKUP($B8,[1]面试人员名单!$E$2:$O$432,11,0) -> 68.8 | H8: =IF(G8="缺考","缺考",ROUND(G8*0.4,2)) -> 27.52 | I8: =SUM(F8,H8) -> 60.52 | J8: 否
A9: 7 | B9: 202506140507 | C9: =VLOOKUP($B9,[1]面试人员名单!$E$2:$O$432,5,0) -> 0001绥阳县人民医院 | D9: =VLOOKUP($B9,[1]面试人员名单!$E$2:$O$432,7,0) -> 22109000103 | E9: =VLOOKUP($B9,[1]面试人员名单!$E$2:$O$432,9,0) -> 157.8 | F9: =ROUND(E9/3*0.6,2) -> 31.56 | G9: =VLOOKUP($B9,[1]面试人员名单!$E$2:$O$432,11,0) -> 74.52 | H9: =IF(G9="缺考","缺考",ROUND(G9*0.4,2)) -> 29.81 | I9: =SUM(F9,H9) -> 61.37 | J9: =IF(VLOOKUP($B9,[1]面试人员名单!$E$2:$T$432,14,0)=0,"",VLOOKUP($B9,[1]面试人员名单!$E$2:$T$432,15,0)) -> 是
A10: 8 | B10: 202506140508 | C10: =VLOOKUP($B10,[1]面试人员名单!$E$2:$O$432,5,0) -> 0001绥阳县人民医院 | D10: =VLOOKUP($B10,[1]面试人员名单!$E$2:$O$432,7,0) -> 22109000104 | E10: =VLOOKUP($B10,[1]面试人员名单!$E$2:$O$432,9,0) -> 158.6 | F10: =ROUND(E10/3*0.6,2) -> 31.72 | G10: =VLOOKUP($B10,[1]面试人员名单!$E$2:$O$432,11,0) -> 73.2 | H10: =IF(G10="缺考","缺考",ROUND(G10*0.4,2)) -> 29.28 | I10: =SUM(F10,H10) -> 61 | J10: =IF(VLOOKUP($B10,[1]面试人员名单!$E$2:$T$432,14,0)=0,"",VLOOKUP($B10,[1]面试人员名单!$E$2:$T$432,15,0)) -> 是
A11: 9 | B11: 202506140509 | C11: =VLOOKUP($B11,[1]面试人员名单!$E$2:$O$432,5,0) -> 0001绥阳县人民医院 | D11: =VLOOKUP($B11,[1]面试人员名单!$E$2:$O$432,7,0) -> 22109000105 | E11: =VLOOKUP($B11,[1]面试人员名单!$E$2:$O$432,9,0) -> 173.3 | F11: =ROUND(E11/3*0.6,2) -> 34.66 | G11: =VLOOKUP($B11,[1]面试人员名单!$E$2:$O$432,11,0) -> 75 | H11: =IF(G11="缺考","缺考",ROUND(G11*0.4,2)) -> 30 | I11: =SUM(F11,H11) -> 64.66 | J11: =IF(VLOOKUP($B11,[1]面试人员名单!$E$2:$T$432,14,0)=0,"",VLOOKUP($B11,[1]面试人员名单!$E$2:$T$432,15,0)) -> 是
A12: 10 | B12: 202506140510 | C12: =VLOOKUP($B12,[1]面试人员名单!$E$2:$O$432,5,0) -> 0001绥阳县人民医院 | D12: =VLOOKUP($B12,[1]面试人员名单!$E$2:$O$432,7,0) -> 22109000105 | E12: =VLOOKUP($B12,[1]面试人员名单!$E$2:$O$432,9,0) -> 142.7 | F12: =ROUND(E12/3*0.6,2) -> 28.54 | G12: =VLOOKUP($B12,[1]面试人员名单!$E$2:$O$432,11,0) -> 73.6 | H12: =IF(G12="缺考","缺考",ROUND(G12*0.4,2)) -> 29.44 | I12: =SUM(F12,H12) -> 57.98 | J12: 否
A13: 11 | B13: 202506140511 | C13: =VLOOKUP($B13,[1]面试人员名单!$E$2:$O$432,5,0) -> 0001绥阳县人民医院 | D13: =VLOOKUP($B13,[1]面试人员名单!$E$2:$O$432,7,0) -> 22109000106 | E13: =VLOOKUP($B13,[1]面试人员名单!$E$2:$O$432,9,0) -> 170.2 | F13: =ROUND(E13/3*0.6,2) -> 34.04 | G13: =VLOOKUP($B13,[1]面试人员名单!$E$2:$O$432,11,0) -> 75.96 | H13: =IF(G13="缺考","缺考",ROUND(G13*0.4,2)) -> 30.38 | I13: =SUM(F13,H13) -> 64.42 | J13: =IF(VLOOKUP($B13,[1]面试人员名单!$E$2:$T$432,14,0)=0,"",VLOOKUP($B13,[1]面试人员名单!$E$2:$T$432,15,0)) -> 是
A14: 12 | B14: 202506140512 | C14: =VLOOKUP($B14,[1]面试人员名单!$E$2:$O$432,5,0) -> 0001绥阳县人民医院 | D14: =VLOOKUP($B14,[1]面试人员名单!$E$2:$O$432,7,0) -> 22109000106 | E14: =VLOOKUP($B14,[1]面试人员名单!$E$2:$O$432,9,0) -> 157.3 | F14: =ROUND(E14/3*0.6,2) -> 31.46 | G14: =VLOOKUP($B14,[1]面试人员名单!$E$2:$O$432,11,0) -> 76.8 | H14: =IF(G14="缺考","缺考",ROUND(G14*0.4,2)) -> 30.72 | I14: =SUM(F14,H14) -> 62.18 | J14: 否
A15: 13 | B15: 202506140513 | C15: =VLOOKUP($B15,[1]面试人员名单!$E$2:$O$432,5,0) -> 0001绥阳县人民医院 | D15: =VLOOKUP($B15,[1]面试人员名单!$E$2:$O$432,7,0) -> 22109000106 | E15: =VLOOKUP($B15,[1]面试人员名单!$E$2:$O$432,9,0) -> 154.2 | F15: =ROUND(E15/3*0.6,2) -> 30.84 | G15: =VLOOKUP($B15,[1]面试人员名单!$E$2:$O$432,11,0) -> 75.6 | H15: =IF(G15="缺考","缺考",ROUND(G15*0.4,2)) -> 30.24 | I15: =SUM(F15,H15) -> 61.08 | J15: 否
A16: 14 | B16: 202506140514 | C16: =VLOOKUP($B16,[1]面试人员名单!$E$2:$O$432,5,0) -> 0001绥阳县人民医院 | D16: =VLOOKUP($B16,[1]面试人员名单!$E$2:$O$432,7,0) -> 22109000107 | E16: =VLOOKUP($B16,[1]面试人员名单!$E$2:$O$432,9,0) -> 172.7 | F16: =ROUND(E16/3*0.6,2) -> 34.54 | G16: =VLOOKUP($B16,[1]面试人员名单!$E$2:$O$432,11,0) -> 72.8 | H16: =IF(G16="缺考","缺考",ROUND(G16*0.4,2)) -> 29.12 | I16: =SUM(F16,H16) -> 63.66 | J16: =IF(VLOOKUP($B16,[1]面试人员名单!$E$2:$T$432,14,0)=0,"",VLOOKUP($B16,[1]面试人员名单!$E$2:$T$432,15,0)) -> 是
A17: 15 | B17: 202506140515 | C17: =VLOOKUP($B17,[1]面试人员名单!$E$2:$O$432,5,0) -> 0001绥阳县人民医院 | D17: =VLOOKUP($B17,[1]面试人员名单!$E$2:$O$432,7,0) -> 22109000107 | E17: =VLOOKUP($B17,[1]面试人员名单!$E$2:$O$432,9,0) -> 150.4 | F17: =ROUND(E17/3*0.6,2) -> 30.08 | G17: =VLOOKUP($B17,[1]面试人员名单!$E$2:$O$432,11,0) -> 78.6 | H17: =IF(G17="缺考","缺考",ROUND(G17*0.4,2)) -> 31.44 | I17: =SUM(F17,H17) -> 61.52 | J17: =IF(VLOOKUP($B17,[1]面试人员名单!$E$2:$T$432,14,0)=0,"",VLOOKUP($B17,[1]面试人员名单!$E$2:$T$432,15,0)) -> 是
A18: 16 | B18: 202506140516 | C18: =VLOOKUP($B18,[1]面试人员名单!$E$2:$O$432,5,0) -> 0001绥阳县人民医院 | D18: =VLOOKUP($B18,[1]面试人员名单!$E$2:$O$432,7,0) -> 22109000107 | E18: =VLOOKUP($B18,[1]面试人员名单!$E$2:$O$432,9,0) -> 146 | F18: =ROUND(E18/3*0.6,2) -> 29.2 | G18: =VLOOKUP($B18,[1]面试人员名单!$E$2:$O$432,11,0) -> 71.4 | H18: =IF(G18="缺考","缺考",ROUND(G18*0.4,2)) -> 28.56 | I18: =SUM(F18,H18) -> 57.76 | J18: 否
A19: 17 | B19: 202506140517 | C19: =VLOOKUP($B19,[1]面试人员名单!$E$2:$O$432,5,0) -> 0001绥阳县人民医院 | D19: =VLOOKUP($B19,[1]面试人员名单!$E$2:$O$432,7,0) -> 22109000107 | E19: =VLOOKUP($B19,[1]面试人员名单!$E$2:$O$432,9,0) -> 139.7 | F19: =ROUND(E19/3*0.6,2) -> 27.94 | G19: =VLOOKUP($B19,[1]面试人员名单!$E$2:$O$432,11,0) -> 缺考 | H19: =IF(G19="缺考","缺考",ROUND(G19*0.4,2)) -> 缺考 | I19: =SUM(F19,H19) -> 27.94 | J19: 否
A20: 18 | B20: 202506140518 | C20: =VLOOKUP($B20,[1]面试人员名单!$E$2:$O$432,5,0) -> 0001绥阳县人民医院 | D20: =VLOOKUP($B20,[1]面试人员名单!$E$2:$O$432,7,0) -> 22109000108 | E20: =VLOOKUP($B20,[1]面试人员名单!$E$2:$O$432,9,0) -> 163.9 | F20: =ROUND(E20/3*0.6,2) -> 32.78 | G20: =VLOOKUP($B20,[1]面试人员名单!$E$2:$O$432,11,0) -> 74 | H20: =IF(G20="缺考","缺考",ROUND(G20*0.4,2)) -> 29.6 | I20: =SUM(F20,H20) -> 62.38 | J20: =IF(VLOOKUP($B20,[1]面试人员名单!$E$2:$T$432,14,0)=0,"",VLOOKUP($B20,[1]面试人员名单!$E$2:$T$432,15,0)) -> 是
A21: 19 | B21: 202506140519 | C21: =VLOOKUP($B21,[1]面试人员名单!$E$2:$O$432,5,0) -> 0001绥阳县人民医院 | D21: =VLOOKUP($B21,[1]面试人员名单!$E$2:$O$432,7,0) -> 22109000110 | E21: =VLOOKUP($B21,[1]面试人员名单!$E$2:$O$432,9,0) -> 154 | F21: =ROUND(E21/3*0.6,2) -> 30.8 | G21: =VLOOKUP($B21,[1]面试人员名单!$E$2:$O$432,11,0) -> 缺考 | H21: =IF(G21="缺考","缺考",ROUND(G21*0.4,2)) -> 缺考 | I21: =SUM(F21,H21) -> 30.8 | J21: 否
A22: 20 | B22: 202506140520 | C22: =VLOOKUP($B22,[1]面试人员名单!$E$2:$O$432,5,0) -> 0001绥阳县人民医院 | D22: =VLOOKUP($B22,[1]面试人员名单!$E$2:$O$432,7,0) -> 22109000111 | E22: =VLOOKUP($B22,[1]面试人员名单!$E$2:$O$432,9,0) -> 157.9 | F22: =ROUND(E22/3*0.6,2) -> 31.58 | G22: =VLOOKUP($B22,[1]面试人员名单!$E$2:$O$432,11,0) -> 75.64 | H22: =IF(G22="缺考","缺考",ROUND(G22*0.4,2)) -> 30.26 | I22: =SUM(F22,H22) -> 61.84 | J22: =IF(VLOOKUP($B22,[1]面试人员名单!$E$2:$T$432,14,0)=0,"",VLOOKUP($B22,[1]面试人员名单!$E$2:$T$432,15,0)) -> 是
A23: 21 | B23: 202506140521 | C23: =VLOOKUP($B23,[1]面试人员名单!$E$2:$O$432,5,0) -> 0001绥阳县人民医院 | D23: =VLOOKUP($B23,[1]面试人员名单!$E$2:$O$432,7,0) -> 22109000112 | E23: =VLOOKUP($B23,[1]面试人员名单!$E$2:$O$432,9,0) -> 157.5 | F23: =ROUND(E23/3*0.6,2) -> 31.5 | G23: =VLOOKUP($B23,[1]面试人员名单!$E$2:$O$432,11,0) -> 缺考 | H23: =IF(G23="缺考","缺考",ROUND(G23*0.4,2)) -> 缺考 | I23: =SUM(F23,H23) -> 31.5 | J23: 否
A24: 22 | B24: 202506140524 | C24: =VLOOKUP($B24,[1]面试人员名单!$E$2:$O$432,5,0) -> 0001绥阳县人民医院 | D24: =VLOOKUP($B24,[1]面试人员名单!$E$2:$O$432,7,0) -> 22109000113 | E24: =VLOOKUP($B24,[1]面试人员名单!$E$2:$O$432,9,0) -> 166.3 | F24: =ROUND(E24/3*0.6,2) -> 33.26 | G24: =VLOOKUP($B24,[1]面试人员名单!$E$2:$O$432,11,0) -> 80.94 | H24: =IF(G24="缺考","缺考",ROUND(G24*0.4,2)) -> 32.38 | I24: =SUM(F24,H24) -> 65.64 | J24: =IF(VLOOKUP($B24,[1]面试人员名单!$E$2:$T$432,14,0)=0,"",VLOOKUP($B24,[1]面试人员名单!$E$2:$T$432,15,0)) -> 是
A25: 23 | B25: 202506140522 | C25: =VLOOKUP($B25,[1]面试人员名单!$E$2:$O$432,5,0) -> 0001绥阳县人民医院 | D25: =VLOOKUP($B25,[1]面试人员名单!$E$2:$O$432,7,0) -> 22109000113 | E25: =VLOOKUP($B25,[1]面试人员名单!$E$2:$O$432,9,0) -> 171.3 | F25: =ROUND(E25/3*0.6,2) -> 34.26 | G25: =VLOOKUP($B25,[1]面试人员名单!$E$2:$O$432,11,0) -> 77.3 | H25: =IF(G25="缺考","缺考",ROUND(G25*0.4,2)) -> 30.92 | I25: =SUM(F25,H25) -> 65.18 | J25: 否
A26: 24 | B26: 202506140523 | C26: =VLOOKUP($B26,[1]面试人员名单!$E$2:$O$432,5,0) -> 0001绥阳县人民医院 | D26: =VLOOKUP($B26,[1]面试人员名单!$E$2:$O$432,7,0) -> 22109000113 | E26: =VLOOKUP($B26,[1]面试人员名单!$E$2:$O$432,9,0) -> 169.9 | F26: =ROUND(E26/3*0.6,2) -> 33.98 | G26: =VLOOKUP($B26,[1]面试人员名单!$E$2:$O$432,11,0) -> 77.5 | H26: =IF(G26="缺考","缺考",ROUND(G26*0.4,2)) -> 31 | I26: =SUM(F26,H26) -> 64.98 | J26: 否
A27: 25 | B27: 202506140525 | C27: =VLOOKUP($B27,[1]面试人员名单!$E$2:$O$432,5,0) -> 0001绥阳县人民医院 | D27: =VLOOKUP($B27,[1]面试人员名单!$E$2:$O$432,7,0) -> 22109000114 | E27: =VLOOKUP($B27,[1]面试人员名单!$E$2:$O$432,9,0) -> 185 | F27: =ROUND(E27/3*0.6,2) -> 37 | G27: =VLOOKUP($B27,[1]面试人员名单!$E$2:$O$432,11,0) -> 79.64 | H27: =IF(G27="缺考","缺考",ROUND(G27*0.4,2)) -> 31.86 | I27: =SUM(F27,H27) -> 68.86 | J27: =IF(VLOOKUP($B27,[1]面试人员名单!$E$2:$T$432,14,0)=0,"",VLOOKUP($B27,[1]面试人员名单!$E$2:$T$432,15,0)) -> 是
A28: 26 | B28: 202506140526 | C28: =VLOOKUP($B28,[1]面试人员名单!$E$2:$O$432,5,0) -> 0001绥阳县人民医院 | D28: =VLOOKUP($B28,[1]面试人员名单!$E$2:$O$432,7,0) -> 22109000114 | E28: =VLOOKUP($B28,[1]面试人员名单!$E$2:$O$432,9,0) -> 178.6 | F28: =ROUND(E28/3*0.6,2) -> 35.72 | G28: =VLOOKUP($B28,[1]面试人员名单!$E$2:$O$432,11,0) -> 79.8 | H28: =IF(G28="缺考","缺考",ROUND(G28*0.4,2)) -> 31.92 | I28: =SUM(F28,H28) -> 67.64 | J28: =IF(VLOOKUP($B28,[1]面试人员名单!$E$2:$T$432,14,0)=0,"",VLOOKUP($B28,[1]面试人员名单!$E$2:$T$432,15,0)) -> 是
A29: 27 | B29: 202506140527 | C29: =VLOOKUP($B29,[1]面试人员名单!$E$2:$O$432,5,0) -> 0001绥阳县人民医院 | D29: =VLOOKUP($B29,[1]面试人员名单!$E$2:$O$432,7,0) -> 22109000114 | E29: =VLOOKUP($B29,[1]面试人员名单!$E$2:$O$432,9,0) -> 168.7 | F29: =ROUND(E29/3*0.6,2) -> 33.74 | G29: =VLOOKUP($B29,[1]面试人员名单!$E$2:$O$432,11,0) -> 80 | H29: =IF(G29="缺考","缺考",ROUND(G29*0.4,2)) -> 32 | I29: =SUM(F29,H29) -> 65.74 | J29: 否
A30: 28 | B30: 202506140529 | C30: =VLOOKUP($B30,[1]面试人员名单!$E$2:$O$432,5,0) -> 0001绥阳县人民医院 | D30: =VLOOKUP($B30,[1]面试人员名单!$E$2:$O$432,7,0) -> 22109000114 | E30: =VLOOKUP($B30,[1]面试人员名单!$E$2:$O$432,9,0) -> 164.6 | F30: =ROUND(E30/3*0.6,2) -> 32.92 | G30: =VLOOKUP($B30,[1]面试人员名单!$E$2:$O$432,11,0) -> 76 | H30: =IF(G30="缺考","缺考",ROUND(G30*0.4,2)) -> 30.4 | I30: =SUM(F30,H30) -> 63.32 | J30: 否
A31: 29 | B31: 202506140528 | C31: =VLOOKUP($B31,[1]面试人员名单!$E$2:$O$432,5,0) -> 0001绥阳县人民医院 | D31: =VLOOKUP($B31,[1]面试人员名单!$E$2:$O$432,7,0) -> 22109000114 | E31: =VLOOKUP($B31,[1]面试人员名单!$E$2:$O$432,9,0) -> 165.3 | F31: =ROUND(E31/3*0.6,2) -> 33.06 | G31: =VLOOKUP($B31,[1]面试人员名单!$E$2:$O$432,11,0) -> 缺考 | H31: =IF(G31="缺考","缺考",ROUND(G31*0.4,2)) -> 缺考 | I31: =SUM(F31,H31) -> 33.06 | J31: 否
A32: 30 | B32: 202506140530 | C32: =VLOOKUP($B32,[1]面试人员名单!$E$2:$O$432,5,0) -> 0001绥阳县人民医院 | D32: =VLOOKUP($B32,[1]面试人员名单!$E$2:$O$432,7,0) -> 22109000114 | E32: =VLOOKUP($B32,[1]面试人员名单!$E$2:$O$432,9,0) -> 163.7 | F32: =ROUND(E32/3*0.6,2) -> 32.74 | G32: =VLOOKUP($B32,[1]面试人员名单!$E$2:$O$432,11,0) -> 缺考 | H32: =IF(G32="缺考","缺考",ROUND(G32*0.4,2)) -> 缺考 | I32: =SUM(F32,H32) -> 32.74 | J32: 否
A33: 31 | B33: 202506140601 | C33: =VLOOKUP($B33,[1]面试人员名单!$E$2:$O$432,5,0) -> 0001绥阳县人民医院 | D33: =VLOOKUP($B33,[1]面试人员名单!$E$2:$O$432,7,0) -> 22109000115 | E33: =VLOOKUP($B33,[1]面试人员名单!$E$2:$O$432,9,0) -> 204 | F33: =ROUND(E33/3*0.6,2) -> 40.8 | G33: =VLOOKUP($B33,[1]面试人员名单!$E$2:$O$432,11,0) -> 78.6 | H33: =IF(G33="缺考","缺考",ROUND(G33*0.4,2)) -> 31.44 | I33: =SUM(F33,H33) -> 72.24 | J33: =IF(VLOOKUP($B33,[1]面试人员名单!$E$2:$T$432,14,0)=0,"",VLOOKUP($B33,[1]面试人员名单!$E$2:$T$432,15,0)) -> 是
A34: 32 | B34: 202506140602 | C34: =VLOOKUP($B34,[1]面试人员名单!$E$2:$O$432,5,0) -> 0001绥阳县人民医院 | D34: =VLOOKUP($B34,[1]面试人员名单!$E$2:$O$432,7,0) -> 22109000115 | E34: =VLOOKUP($B34,[1]面试人员名单!$E$2:$O$432,9,0) -> 201.5 | F34: =ROUND(E34/3*0.6,2) -> 40.3 | G34: =VLOOKUP($B34,[1]面试人员名单!$E$2:$O$432,11,0) -> 79.8 | H34: =IF(G34="缺考","缺考",ROUND(G34*0.4,2)) -> 31.92 | I34: =SUM(F34,H34) -> 72.22 | J34: 否
A35: 33 | B35: 202506140603 | C35: =VLOOKUP($B35,[1]面试人员名单!$E$2:$O$432,5,0) -> 0001绥阳县人民医院 | D35: =VLOOKUP($B35,[1]面试人员名单!$E$2:$O$432,7,0) -> 22109000115 | E35: =VLOOKUP($B35,[1]面试人员名单!$E$2:$O$432,9,0) -> 187.5 | F35: =ROUND(E35/3*0.6,2) -> 37.5 | G35: =VLOOKUP($B35,[1]面试人员名单!$E$2:$O$432,11,0) -> 77.8 | H35: =IF(G35="缺考","缺考",ROUND(G35*0.4,2)) -> 31.12 | I35: =SUM(F35,H35) -> 68.62 | J35: 否
A36: 34 | B36: 202506140604 | C36: =VLOOKUP($B36,[1]面试人员名单!$E$2:$O$432,5,0) -> 0001绥阳县人民医院 | D36: =VLOOKUP($B36,[1]面试人员名单!$E$2:$O$432,7,0) -> 22109000116 | E36: =VLOOKUP($B36,[1]面试人员名单!$E$2:$O$432,9,0) -> 207.5 | F36: =ROUND(E36/3*0.6,2) -> 41.5 | G36: =VLOOKUP($B36,[1]面试人员名单!$E$2:$O$432,11,0) -> 84 | H36: =IF(G36="缺考","缺考",ROUND(G36*0.4,2)) -> 33.6 | I36: =SUM(F36,H36) -> 75.1 | J36: =IF(VLOOKUP($B36,[1]面试人员名单!$E$2:$T$432,14,0)=0,"",VLOOKUP($B36,[1]面试人员名单!$E$2:$T$432,15,0)) -> 是
A37: 35 | B37: 202506140606 | C37: =VLOOKUP($B37,[1]面试人员名单!$E$2:$O$432,5,0) -> 0001绥阳县人民医院 | D37: =VLOOKUP($B37,[1]面试人员名单!$E$2:$O$432,7,0) -> 22109000116 | E37: =VLOOKUP($B37,[1]面试人员名单!$E$2:$O$432,9,0) -> 199.5 | F37: =ROUND(E37/3*0.6,2) -> 39.9 | G37: =VLOOKUP($B37,[1]面试人员名单!$E$2:$O$432,11,0) -> 82 | H37: =IF(G37="缺考","缺考",ROUND(G37*0.4,2)) -> 32.8 | I37: =SUM(F37,H37) -> 72.7 | J37: 否
A38: 36 | B38: 202506140605 | C38: =VLOOKUP($B38,[1]面试人员名单!$E$2:$O$432,5,0) -> 0001绥阳县人民医院 | D38: =VLOOKUP($B38,[1]面试人员名单!$E$2:$O$432,7,0) -> 22109000116 | E38: =VLOOKUP($B38,[1]面试人员名单!$E$2:$O$432,9,0) -> 201 | F38: =ROUND(E38/3*0.6,2) -> 40.2 | G38: =VLOOKUP($B38,[1]面试人员名单!$E$2:$O$432,11,0) -> 79 | H38: =IF(G38="缺考","缺考",ROUND(G38*0.4,2)) -> 31.6 | I38: =SUM(F38,H38) -> 71.8 | J38: 否
A39: 37 | B39: 202506140609 | C39: =VLOOKUP($B39,[1]面试人员名单!$E$2:$O$432,5,0) -> 0002绥阳县中医医院 | D39: =VLOOKUP($B39,[1]面试人员名单!$E$2:$O$432,7,0) -> 22109000201 | E39: =VLOOKUP($B39,[1]面试人员名单!$E$2:$O$432,9,0) -> 157.5 | F39: =ROUND(E39/3*0.6,2) -> 31.5 | G39: =VLOOKUP($B39,[1]面试人员名单!$E$2:$O$432,11,0) -> 81.4 | H39: =IF(G39="缺考","缺考",ROUND(G39*0.4,2)) -> 32.56 | I39: =SUM(F39,H39) -> 64.06 | J39: =IF(VLOOKUP($B39,[1]面试人员名单!$E$2:$T$432,14,0)=0,"",VLOOKUP($B39,[1]面试人员名单!$E$2:$T$432,15,0)) -> 是
A40: 38 | B40: 202506140608 | C40: =VLOOKUP($B40,[1]面试人员名单!$E$2:$O$432,5,0) -> 0002绥阳县中医医院 | D40: =VLOOKUP($B40,[1]面试人员名单!$E$2:$O$432,7,0) -> 22109000201 | E40: =VLOOKUP($B40,[1]面试人员名单!$E$2:$O$432,9,0) -> 163.1 | F40: =ROUND(E40/3*0.6,2) -> 32.62 | G40: =VLOOKUP($B40,[1]面试人员名单!$E$2:$O$432,11,0) -> 76.8 | H40: =IF(G40="缺考","缺考",ROUND(G40*0.4,2)) -> 30.72 | I40: =SUM(F40,H40) -> 63.34 | J40: =IF(VLOOKUP($B40,[1]面试人员名单!$E$2:$T$432,14,0)=0,"",VLOOKUP($B40,[1]面试人员名单!$E$2:$T$432,15,0)) -> 是
A41: 39 | B41: 202506140607 | C41: =VLOOKUP($B41,[1]面试人员名单!$E$2:$O$432,5,0) -> 0002绥阳县中医医院 | D41: =VLOOKUP($B41,[1]面试人员名单!$E$2:$O$432,7,0) -> 22109000201 | E41: =VLOOKUP($B41,[1]面试人员名单!$E$2:$O$432,9,0) -> 168.3 | F41: =ROUND(E41/3*0.6,2) -> 33.66 | G41: =VLOOKUP($B41,[1]面试人员名单!$E$2:$O$432,11,0) -> 72.2 | H41: =IF(G41="缺考","缺考",ROUND(G41*0.4,2)) -> 28.88 | I41: =SUM(F41,H41) -> 62.54 | J41: =IF(VLOOKUP($B41,[1]面试人员名单!$E$2:$T$432,14,0)=0,"",VLOOKUP($B41,[1]面试人员名单!$E$2:$T$432,15,0)) -> 是
A42: 40 | B42: 202506140611 | C42: =VLOOKUP($B42,[1]面试人员名单!$E$2:$O$432,5,0) -> 0002绥阳县中医医院 | D42: =VLOOKUP($B42,[1]面试人员名单!$E$2:$O$432,7,0) -> 22109000201 | E42: =VLOOKUP($B42,[1]面试人员名单!$E$2:$O$432,9,0) -> 154.1 | F42: =ROUND(E42/3*0.6,2) -> 30.82 | G42: =VLOOKUP($B42,[1]面试人员名单!$E$2:$O$432,11,0) -> 74.2 | H42: =IF(G42="缺考","缺考",ROUND(G42*0.4,2)) -> 29.68 | I42: =SUM(F42,H42) -> 60.5 | J42: =IF(VLOOKUP($B42,[1]面试人员名单!$E$2:$T$432,14,0)=0,"",VLOOKUP($B42,[1]面试人员名单!$E$2:$T$432,15,0)) -> 是
A43: 41 | B43: 202506140610 | C43: =VLOOKUP($B43,[1]面试人员名单!$E$2:$O$432,5,0) -> 0002绥阳县中医医院 | D43: =VLOOKUP($B43,[1]面试人员名单!$E$2:$O$432,7,0) -> 22109000201 | E43: =VLOOKUP($B43,[1]面试人员名单!$E$2:$O$432,9,0) -> 155.2 | F43: =ROUND(E43/3*0.6,2) -> 31.04 | G43: =VLOOKUP($B43,[1]面试人员名单!$E$2:$O$432,11,0) -> 71.8 | H43: =IF(G43="缺考","缺考",ROUND(G43*0.4,2)) -> 28.72 | I43: =SUM(F43,H43) -> 59.76 | J43: =IF(VLOOKUP($B43,[1]面试人员名单!$E$2:$T$432,14,0)=0,"",VLOOKUP($B43,[1]面试人员名单!$E$2:$T$432,15,0)) -> 是
A44: 42 | B44: 202506140612 | C44: =VLOOKUP($B44,[1]面试人员名单!$E$2:$O$432,5,0) -> 0002绥阳县中医医院 | D44: =VLOOKUP($B44,[1]面试人员名单!$E$2:$O$432,7,0) -> 22109000201 | E44: =VLOOKUP($B44,[1]面试人员名单!$E$2:$O$432,9,0) -> 149 | F44: =ROUND(E44/3*0.6,2) -> 29.8 | G44: =VLOOKUP($B44,[1]面试人员名单!$E$2:$O$432,11,0) -> 71.8 | H44: =IF(G44="缺考","缺考",ROUND(G44*0.4,2)) -> 28.72 | I44: =SUM(F44,H44) -> 58.52 | J44: 否
A45: 43 | B45: 202506140614 | C45: =VLOOKUP($B45,[1]面试人员名单!$E$2:$O$432,5,0) -> 0002绥阳县中医医院 | D45: =VLOOKUP($B45,[1]面试人员名单!$E$2:$O$432,7,0) -> 22109000201 | E45: =VLOOKUP($B45,[1]面试人员名单!$E$2:$O$432,9,0) -> 146.3 | F45: =ROUND(E45/3*0.6,2) -> 29.26 | G45: =VLOOKUP($B45,[1]面试人员名单!$E$2:$O$432,11,0) -> 71.6 | H45: =IF(G45="缺考","缺考",ROUND(G45*0.4,2)) -> 28.64 | I45: =SUM(F45,H45) -> 57.9 | J45: 否
A46: 44 | B46: 202506140613 | C46: =VLOOKUP($B46,[1]面试人员名单!$E$2:$O$432,5,0) -> 0002绥阳县中医医院 | D46: =VLOOKUP($B46,[1]面试人员名单!$E$2:$O$432,7,0) -> 22109000201 | E46: =VLOOKUP($B46,[1]面试人员名单!$E$2:$O$432,9,0) -> 146.6 | F46: =ROUND(E46/3*0.6,2) -> 29.32 | G46: =VLOOKUP($B46,[1]面试人员名单!$E$2:$O$432,11,0) -> 70 | H46: =IF(G46="缺考","缺考",ROUND(G46*0.4,2)) -> 28 | I46: =SUM(F46,H46) -> 57.32 | J46: 否
A47: 45 | B47: 202506140617 | C47: =VLOOKUP($B47,[1]面试人员名单!$E$2:$O$432,5,0) -> 0002绥阳县中医医院 | D47: =VLOOKUP($B47,[1]面试人员名单!$E$2:$O$432,7,0) -> 22109000201 | E47: =VLOOKUP($B47,[1]面试人员名单!$E$2:$O$432,9,0) -> 142.5 | F47: =ROUND(E47/3*0.6,2) -> 28.5 | G47: =VLOOKUP($B47,[1]面试人员名单!$E$2:$O$432,11,0) -> 72 | H47: =IF(G47="缺考","缺考",ROUND(G47*0.4,2)) -> 28.8 | I47: =SUM(F47,H47) -> 57.3 | J47: 否
A48: 46 | B48: 202506140618 | C48: =VLOOKUP($B48,[1]面试人员名单!$E$2:$O$432,5,0) -> 0002绥阳县中医医院 | D48: =VLOOKUP($B48,[1]面试人员名单!$E$2:$O$432,7,0) -> 22109000201 | E48: =VLOOKUP($B48,[1]面试人员名单!$E$2:$O$432,9,0) -> 139.4 | F48: =ROUND(E48/3*0.6,2) -> 27.88 | G48: =VLOOKUP($B48,[1]面试人员名单!$E$2:$O$432,11,0) -> 72.2 | H48: =IF(G48="缺考","缺考",ROUND(G48*0.4,2)) -> 28.88 | I48: =SUM(F48,H48) -> 56.76 | J48: 否
A49: 47 | B49: 202506140619 | C49: =VLOOKUP($B49,[1]面试人员名单!$E$2:$O$432,5,0) -> 0002绥阳县中医医院 | D49: =VLOOKUP($B49,[1]面试人员名单!$E$2:$O$432,7,0) -> 22109000201 | E49: =VLOOKUP($B49,[1]面试人员名单!$E$2:$O$432,9,0) -> 135.5 | F49: =ROUND(E49/3*0.6,2) -> 27.1 | G49: =VLOOKUP($B49,[1]面试人员名单!$E$2:$O$432,11,0) -> 69.2 | H49: =IF(G49="缺考","缺考",ROUND(G49*0.4,2)) -> 27.68 | I49: =SUM(F49,H49) -> 54.78 | J49: 否
A50: 48 | B50: 202506140620 | C50: =VLOOKUP($B50,[1]面试人员名单!$E$2:$O$432,5,0) -> 0002绥阳县中医医院 | D50: =VLOOKUP($B50,[1]面试人员名单!$E$2:$O$432,7,0) -> 22109000201 | E50: =VLOOKUP($B50,[1]面试人员名单!$E$2:$O$432,9,0) -> 135.1 | F50: =ROUND(E50/3*0.6,2) -> 27.02 | G50: =VLOOKUP($B50,[1]面试人员名单!$E$2:$O$432,11,0) -> 69.2 | H50: =IF(G50="缺考","缺考",ROUND(G50*0.4,2)) -> 27.68 | I50: =SUM(F50,H50) -> 54.7 | J50: 否
A51: 49 | B51: 202506140615 | C51: =VLOOKUP($B51,[1]面试人员名单!$E$2:$O$432,5,0) -> 0002绥阳县中医医院 | D51: =VLOOKUP($B51,[1]面试人员名单!$E$2:$O$432,7,0) -> 22109000201 | E51: =VLOOKUP($B51,[1]面试人员名单!$E$2:$O$432,9,0) -> 144.8 | F51: =ROUND(E51/3*0.6,2) -> 28.96 | G51: =VLOOKUP($B51,[1]面试人员名单!$E$2:$O$432,11,0) -> 缺考 | H51: =IF(G51="缺考","缺考",ROUND(G51*0.4,2)) -> 缺考 | I51: =SUM(F51,H51) -> 28.96 | J51: 否
A52: 50 | B52: 202506140616 | C52: =VLOOKUP($B52,[1]面试人员名单!$E$2:$O$432,5,0) -> 0002绥阳县中医医院 | D52: =VLOOKUP($B52,[1]面试人员名单!$E$2:$O$432,7,0) -> 22109000201 | E52: =VLOOKUP($B52,[1]面试人员名单!$E$2:$O$432,9,0) -> 143.5 | F52: =ROUND(E52/3*0.6,2) -> 28.7 | G52: =VLOOKUP($B52,[1]面试人员名单!$E$2:$O$432,11,0) -> 缺考 | H52: =IF(G52="缺考","缺考",ROUND(G52*0.4,2)) -> 缺考 | I52: =SUM(F52,H52) -> 28.7 | J52: 否
A53: 51 | B53: 202506140621 | C53: =VLOOKUP($B53,[1]面试人员名单!$E$2:$O$432,5,0) -> 0002绥阳县中医医院 | D53: =VLOOKUP($B53,[1]面试人员名单!$E$2:$O$432,7,0) -> 22109000201 | E53: =VLOOKUP($B53,[1]面试人员名单!$E$2:$O$432,9,0) -> 128.2 | F53: =ROUND(E53/3*0.6,2) -> 25.64 | G53: =VLOOKUP($B53,[1]面试人员名单!$E$2:$O$432,11,0) -> 缺考 | H53: =IF(G53="缺考","缺考",ROUND(G53*0.4,2)) -> 缺考 | I53: =SUM(F53,H53) -> 25.64 | J53: 否
A54: 52 | B54: 202506140622 | C54: =VLOOKUP($B54,[1]面试人员名单!$E$2:$O$432,5,0) -> 0002绥阳县中医医院 | D54: =VLOOKUP($B54,[1]面试人员名单!$E$2:$O$432,7,0) -> 22109000202 | E54: =VLOOKUP($B54,[1]面试人员名单!$E$2:$O$432,9,0) -> 173.8 | F54: =ROUND(E54/3*0.6,2) -> 34.76 | G54: =VLOOKUP($B54,[1]面试人员名单!$E$2:$O$432,11,0) -> 74.8 | H54: =IF(G54="缺考","缺考",ROUND(G54*0.4,2)) -> 29.92 | I54: =SUM(F54,H54) -> 64.68 | J54: =IF(VLOOKUP($B54,[1]面试人员名单!$E$2:$T$432,14,0)=0,"",VLOOKUP($B54,[1]面试人员名单!$E$2:$T$432,15,0)) -> 是
A55: 53 | B55: 202506140623 | C55: =VLOOKUP($B55,[1]面试人员名单!$E$2:$O$432,5,0) -> 0002绥阳县中医医院 | D55: =VLOOKUP($B55,[1]面试人员名单!$E$2:$O$432,7,0) -> 22109000202 | E55: =VLOOKUP($B55,[1]面试人员名单!$E$2:$O$432,9,0) -> 170.3 | F55: =ROUND(E55/3*0.6,2) -> 34.06 | G55: =VLOOKUP($B55,[1]面试人员名单!$E$2:$O$432,11,0) -> 69.8 | H55: =IF(G55="缺考","缺考",ROUND(G55*0.4,2)) -> 27.92 | I55: =SUM(F55,H55) -> 61.98 | J55: 否
A56: 54 | B56: 202506140624 | C56: =VLOOKUP($B56,[1]面试人员名单!$E$2:$O$432,5,0) -> 0002绥阳县中医医院 | D56: =VLOOKUP($B56,[1]面试人员名单!$E$2:$O$432,7,0) -> 22109000202 | E56: =VLOOKUP($B56,[1]面试人员名单!$E$2:$O$432,9,0) -> 169.1 | F56: =ROUND(E56/3*0.6,2) -> 33.82 | G56: =VLOOKUP($B56,[1]面试人员名单!$E$2:$O$432,11,0) -> 68.6 | H56: =IF(G56="缺考","缺考",ROUND(G56*0.4,2)) -> 27.44 | I56: =SUM(F56,H56) -> 61.26 | J56: 否
A57: 55 | B57: 202506140626 | C57: =VLOOKUP($B57,[1]面试人员名单!$E$2:$O$432,5,0) -> 0002绥阳县中医医院 | D57: =VLOOKUP($B57,[1]面试人员名单!$E$2:$O$432,7,0) -> 22109000202 | E57: =VLOOKUP($B57,[1]面试人员名单!$E$2:$O$432,9,0) -> 158.5 | F57: =ROUND(E57/3*0.6,2) -> 31.7 | G57: =VLOOKUP($B57,[1]面试人员名单!$E$2:$O$432,11,0) -> 72 | H57: =IF(G57="缺考","缺考",ROUND(G57*0.4,2)) -> 28.8 | I57: =SUM(F57,H57) -> 60.5 | J57: 否
A58: 56 | B58: 202506140627 | C58: =VLOOKUP($B58,[1]面试人员名单!$E$2:$O$432,5,0) -> 0002绥阳县中医医院 | D58: =VLOOKUP($B58,[1]面试人员名单!$E$2:$O$432,7,0) -> 22109000202 | E58: =VLOOKUP($B58,[1]面试人员名单!$E$2:$O$432,9,0) -> 139.5 | F58: =ROUND(E58/3*0.6,2) -> 27.9 | G58: =VLOOKUP($B58,[1]面试人员名单!$E$2:$O$432,11,0) -> 67 | H58: =IF(G58="缺考","缺考",ROUND(G58*0.4,2)) -> 26.8 | I58: =SUM(F58,H58) -> 54.7 | J58: 否
A59: 57 | B59: 202506140625 | C59: =VLOOKUP($B59,[1]面试人员名单!$E$2:$O$432,5,0) -> 0002绥阳县中医医院 | D59: =VLOOKUP($B59,[1]面试人员名单!$E$2:$O$432,7,0) -> 22109000202 | E59: =VLOOKUP($B59,[1]面试人员名单!$E$2:$O$432,9,0) -> 163.2 | F59: =ROUND(E59/3*0.6,2) -> 32.64 | G59: =VLOOKUP($B59,[1]面试人员名单!$E$2:$O$432,11,0) -> 缺考 | H59: =IF(G59="缺考","缺考",ROUND(G59*0.4,2)) -> 缺考 | I59: =SUM(F59,H59) -> 32.64 | J59: 否
A60: 58 | B60: 202506140628 | C60: =VLOOKUP($B60,[1]面试人员名单!$E$2:$O$432,5,0) -> 0002绥阳县中医医院 | D60: =VLOOKUP($B60,[1]面试人员名单!$E$2:$O$432,7,0) -> 22109000203 | E60: =VLOOKUP($B60,[1]面试人员名单!$E$2:$O$432,9,0) -> 193.9 | F60: =ROUND(E60/3*0.6,2) -> 38.78 | G60: =VLOOKUP($B60,[1]面试人员名单!$E$2:$O$432,11,0) -> 79.4 | H60: =IF(G60="缺考","缺考",ROUND(G60*0.4,2)) -> 31.76 | I60: =SUM(F60,H60) -> 70.54 | J60: =IF(VLOOKUP($B60,[1]面试人员名单!$E$2:$T$432,14,0)=0,"",VLOOKUP($B60,[1]面试人员名单!$E$2:$T$432,15,0)) -> 是
A61: 59 | B61: 202506140629 | C61: =VLOOKUP($B61,[1]面试人员名单!$E$2:$O$432,5,0) -> 0002绥阳县中医医院 | D61: =VLOOKUP($B61,[1]面试人员名单!$E$2:$O$432,7,0) -> 22109000203 | E61: =VLOOKUP($B61,[1]面试人员名单!$E$2:$O$432,9,0) -> 169 | F61: =ROUND(E61/3*0.6,2) -> 33.8 | G61: =VLOOKUP($B61,[1]面试人员名单!$E$2:$O$432,11,0) -> 79.8 | H61: =IF(G61="缺考","缺考",ROUND(G61*0.4,2)) -> 31.92 | I61: =SUM(F61,H61) -> 65.72 | J61: 否
A62: 60 | B62: 202506140630 | C62: =VLOOKUP($B62,[1]面试人员名单!$E$2:$O$432,5,0) -> 0002绥阳县中医医院 | D62: =VLOOKUP($B62,[1]面试人员名单!$E$2:$O$432,7,0) -> 22109000203 | E62: =VLOOKUP($B62,[1]面试人员名单!$E$2:$O$432,9,0) -> 149.3 | F62: =ROUND(E62/3*0.6,2) -> 29.86 | G62: =VLOOKUP($B62,[1]面试人员名单!$E$2:$O$432,11,0) -> 75.8 | H62: =IF(G62="缺考","缺考",ROUND(G62*0.4,2)) -> 30.32 | I62: =SUM(F62,H62) -> 60.18 | J62: 否
A63: 61 | B63: 202506140631 | C63: =VLOOKUP($B63,[1]面试人员名单!$E$2:$O$432,5,0) -> 0002绥阳县中医医院 | D63: =VLOOKUP($B63,[1]面试人员名单!$E$2:$O$432,7,0) -> 22109000204 | E63: =VLOOKUP($B63,[1]面试人员名单!$E$2:$O$432,9,0) -> 161.8 | F63: =ROUND(E63/3*0.6,2) -> 32.36 | G63: =VLOOKUP($B63,[1]面试人员名单!$E$2:$O$432,11,0) -> 73 | H63: =IF(G63="缺考","缺考",ROUND(G63*0.4,2)) -> 29.2 | I63: =SUM(F63,H63) -> 61.56 | J63: =IF(VLOOKUP($B63,[1]面试人员名单!$E$2:$T$432,14,0)=0,"",VLOOKUP($B63,[1]面试人员名单!$E$2:$T$432,15,0)) -> 是
A64: 62 | B64: 202506140701 | C64: =VLOOKUP($B64,[1]面试人员名单!$E$2:$O$432,5,0) -> 0002绥阳县中医医院 | D64: =VLOOKUP($B64,[1]面试人员名单!$E$2:$O$432,7,0) -> 22109000205 | E64: =VLOOKUP($B64,[1]面试人员名单!$E$2:$O$432,9,0) -> 145.4 | F64: =ROUND(E64/3*0.6,2) -> 29.08 | G64: =VLOOKUP($B64,[1]面试人员名单!$E$2:$O$432,11,0) -> 77.9 | H64: =IF(G64="缺考","缺考",ROUND(G64*0.4,2)) -> 31.16 | I64: =SUM(F64,H64) -> 60.24 | J64: =IF(VLOOKUP($B64,[1]面试人员名单!$E$2:$T$432,14,0)=0,"",VLOOKUP($B64,[1]面试人员名单!$E$2:$T$432,15,0)) -> 是
A65: 63 | B65: 202506140702 | C65: =VLOOKUP($B65,[1]面试人员名单!$E$2:$O$432,5,0) -> 0002绥阳县中医医院 | D65: =VLOOKUP($B65,[1]面试人员名单!$E$2:$O$432,7,0) -> 22109000206 | E65: =VLOOKUP($B65,[1]面试人员名单!$E$2:$O$432,9,0) -> 185.6 | F65: =ROUND(E65/3*0.6,2) -> 37.12 | G65: =VLOOKUP($B65,[1]面试人员名单!$E$2:$O$432,11,0) -> 80.6 | H65: =IF(G65="缺考","缺考",ROUND(G65*0.4,2)) -> 32.24 | I65: =SUM(F65,H65) -> 69.36 | J65: =IF(VLOOKUP($B65,[1]面试人员名单!$E$2:$T$432,14,0)=0,"",VLOOKUP($B65,[1]面试人员名单!$E$2:$T$432,15,0)) -> 是
A66: 64 | B66: 202506140703 | C66: =VLOOKUP($B66,[1]面试人员名单!$E$2:$O$432,5,0) -> 0002绥阳县中医医院 | D66: =VLOOKUP($B66,[1]面试人员名单!$E$2:$O$432,7,0) -> 22109000206 | E66: =VLOOKUP($B66,[1]面试人员名单!$E$2:$O$432,9,0) -> 159.4 | F66: =ROUND(E66/3*0.6,2) -> 31.88 | G66: =VLOOKUP($B66,[1]面试人员名单!$E$2:$O$432,11,0) -> 69.2 | H66: =IF(G66="缺考","缺考",ROUND(G66*0.4,2)) -> 27.68 | I66: =SUM(F66,H66) -> 59.56 | J66: 否
A67: 65 | B67: 202506140704 | C67: =VLOOKUP($B67,[1]面试人员名单!$E$2:$O$432,5,0) -> 0002绥阳县中医医院 | D67: =VLOOKUP($B67,[1]面试人员名单!$E$2:$O$432,7,0) -> 22109000206 | E67: =VLOOKUP($B67,[1]面试人员名单!$E$2:$O$432,9,0) -> 152 | F67: =ROUND(E67/3*0.6,2) -> 30.4 | G67: =VLOOKUP($B67,[1]面试人员名单!$E$2:$O$432,11,0) -> 71.6 | H67: =IF(G67="缺考","缺考",ROUND(G67*0.4,2)) -> 28.64 | I67: =SUM(F67,H67) -> 59.04 | J67: 否
A68: 66 | B68: 202506140706 | C68: =VLOOKUP($B68,[1]面试人员名单!$E$2:$O$432,5,0) -> 0002绥阳县中医医院 | D68: =VLOOKUP($B68,[1]面试人员名单!$E$2:$O$432,7,0) -> 22109000207 | E68: =VLOOKUP($B68,[1]面试人员名单!$E$2:$O$432,9,0) -> 163.8 | F68: =ROUND(E68/3*0.6,2) -> 32.76 | G68: =VLOOKUP($B68,[1]面试人员名单!$E$2:$O$432,11,0) -> 77.7 | H68: =IF(G68="缺考","缺考",ROUND(G68*0.4,2)) -> 31.08 | I68: =SUM(F68,H68) -> 63.84 | J68: =IF(VLOOKUP($B68,[1]面试人员名单!$E$2:$T$432,14,0)=0,"",VLOOKUP($B68,[1]面试人员名单!$E$2:$T$432,15,0)) -> 是
A69: 67 | B69: 202506140707 | C69: =VLOOKUP($B69,[1]面试人员名单!$E$2:$O$432,5,0) -> 0002绥阳县中医医院 | D69: =VLOOKUP($B69,[1]面试人员名单!$E$2:$O$432,7,0) -> 22109000207 | E69: =VLOOKUP($B69,[1]面试人员名单!$E$2:$O$432,9,0) -> 161.1 | F69: =ROUND(E69/3*0.6,2) -> 32.22 | G69: =VLOOKUP($B69,[1]面试人员名单!$E$2:$O$432,11,0) -> 76.4 | H69: =IF(G69="缺考","缺考",ROUND(G69*0.4,2)) -> 30.56 | I69: =SUM(F69,H69) -> 62.78 | J69: =IF(VLOOKUP($B69,[1]面试人员名单!$E$2:$T$432,14,0)=0,"",VLOOKUP($B69,[1]面试人员名单!$E$2:$T$432,15,0)) -> 是
A70: 68 | B70: 202506140708 | C70: =VLOOKUP($B70,[1]面试人员名单!$E$2:$O$432,5,0) -> 0002绥阳县中医医院 | D70: =VLOOKUP($B70,[1]面试人员名单!$E$2:$O$432,7,0) -> 22109000207 | E70: =VLOOKUP($B70,[1]面试人员名单!$E$2:$O$432,9,0) -> 153.3 | F70: =ROUND(E70/3*0.6,2) -> 30.66 | G70: =VLOOKUP($B70,[1]面试人员名单!$E$2:$O$432,11,0) -> 75.6 | H70: =IF(G70="缺考","缺考",ROUND(G70*0.4,2)) -> 30.24 | I70: =SUM(F70,H70) -> 60.9 | J70: 否
A71: 69 | B71: 202506140709 | C71: =VLOOKUP($B71,[1]面试人员名单!$E$2:$O$432,5,0) -> 0002绥阳县中医医院 | D71: =VLOOKUP($B71,[1]面试人员名单!$E$2:$O$432,7,0) -> 22109000207 | E71: =VLOOKUP($B71,[1]面试人员名单!$E$2:$O$432,9,0) -> 153.2 | F71: =ROUND(E71/3*0.6,2) -> 30.64 | G71: =VLOOKUP($B71,[1]面试人员名单!$E$2:$O$432,11,0) -> 71.9 | H71: =IF(G71="缺考","缺考",ROUND(G71*0.4,2)) -> 28.76 | I71: =SUM(F71,H71) -> 59.4 | J71: 否
A72: 70 | B72: 202506140710 | C72: =VLOOKUP($B72,[1]面试人员名单!$E$2:$O$432,5,0) -> 0002绥阳县中医医院 | D72: =VLOOKUP($B72,[1]面试人员名单!$E$2:$O$432,7,0) -> 22109000207 | E72: =VLOOKUP($B72,[1]面试人员名单!$E$2:$O$432,9,0) -> 150 | F72: =ROUND(E72/3*0.6,2) -> 30 | G72: =VLOOKUP($B72,[1]面试人员名单!$E$2:$O$432,11,0) -> 71.1 | H72: =IF(G72="缺考","缺考",ROUND(G72*0.4,2)) -> 28.44 | I72: =SUM(F72,H72) -> 58.44 | J72: 否
A73: 71 | B73: 202506140705 | C73: =VLOOKUP($B73,[1]面试人员名单!$E$2:$O$432,5,0) -> 0002绥阳县中医医院 | D73: =VLOOKUP($B73,[1]面试人员名单!$E$2:$O$432,7,0) -> 22109000207 | E73: =VLOOKUP($B73,[1]面试人员名单!$E$2:$O$432,9,0) -> 168.6 | F73: =ROUND(E73/3*0.6,2) -> 33.72 | G73: =VLOOKUP($B73,[1]面试人员名单!$E$2:$O$432,11,0) -> 缺考 | H73: =IF(G73="缺考","缺考",ROUND(G73*0.4,2)) -> 缺考 | I73: =SUM(F73,H73) -> 33.72 | J73: 否
A74: 72 | B74: 202506140711 | C74: =VLOOKUP($B74,[1]面试人员名单!$E$2:$O$432,5,0) -> 0002绥阳县中医医院 | D74: =VLOOKUP($B74,[1]面试人员名单!$E$2:$O$432,7,0) -> 22109000208 | E74: =VLOOKUP($B74,[1]面试人员名单!$E$2:$O$432,9,0) -> 195.3 | F74: =ROUND(E74/3*0.6,2) -> 39.06 | G74: =VLOOKUP($B74,[1]面试人员名单!$E$2:$O$432,11,0) -> 75 | H74: =IF(G74="缺考","缺考",ROUND(G74*0.4,2)) -> 30 | I74: =SUM(F74,H74) -> 69.06 | J74: =IF(VLOOKUP($B74,[1]面试人员名单!$E$2:$T$432,14,0)=0,"",VLOOKUP($B74,[1]面试人员名单!$E$2:$T$432,15,0)) -> 是
A75: 73 | B75: 202506140712 | C75: =VLOOKUP($B75,[1]面试人员名单!$E$2:$O$432,5,0) -> 0002绥阳县中医医院 | D75: =VLOOKUP($B75,[1]面试人员名单!$E$2:$O$432,7,0) -> 22109000208 | E75: =VLOOKUP($B75,[1]面试人员名单!$E$2:$O$432,9,0) -> 176.1 | F75: =ROUND(E75/3*0.6,2) -> 35.22 | G75: =VLOOKUP($B75,[1]面试人员名单!$E$2:$O$432,11,0) -> 82.4 | H75: =IF(G75="缺考","缺考",ROUND(G75*0.4,2)) -> 32.96 | I75: =SUM(F75,H75) -> 68.18 | J75: 否
A76: 74 | B76: 202506140713 | C76: =VLOOKUP($B76,[1]面试人员名单!$E$2:$O$432,5,0) -> 0002绥阳县中医医院 | D76: =VLOOKUP($B76,[1]面试人员名单!$E$2:$O$432,7,0) -> 22109000208 | E76: =VLOOKUP($B76,[1]面试人员名单!$E$2:$O$432,9,0) -> 153 | F76: =ROUND(E76/3*0.6,2) -> 30.6 | G76: =VLOOKUP($B76,[1]面试人员名单!$E$2:$O$432,11,0) -> 缺考 | H76: =IF(G76="缺考","缺考",ROUND(G76*0.4,2)) -> 缺考 | I76: =SUM(F76,H76) -> 30.6 | J76: 否
A77: 75 | B77: 202506140714 | C77: =VLOOKUP($B77,[1]面试人员名单!$E$2:$O$432,5,0) -> 0002绥阳县中医医院 | D77: =VLOOKUP($B77,[1]面试人员名单!$E$2:$O$432,7,0) -> 22109000209 | E77: =VLOOKUP($B77,[1]面试人员名单!$E$2:$O$432,9,0) -> 166.5 | F77: =ROUND(E77/3*0.6,2) -> 33.3 | G77: =VLOOKUP($B77,[1]面试人员名单!$E$2:$O$432,11,0) -> 73 | H77: =IF(G77="缺考","缺考",ROUND(G77*0.4,2)) -> 29.2 | I77: =SUM(F77,H77) -> 62.5 | J77: =IF(VLOOKUP($B77,[1]面试人员名单!$E$2:$T$432,14,0)=0,"",VLOOKUP($B77,[1]面试人员名单!$E$2:$T$432,15,0)) -> 是
A78: 76 | B78: 202506140715 | C78: =VLOOKUP($B78,[1]面试人员名单!$E$2:$O$432,5,0) -> 0002绥阳县中医医院 | D78: =VLOOKUP($B78,[1]面试人员名单!$E$2:$O$432,7,0) -> 22109000209 | E78: =VLOOKUP($B78,[1]面试人员名单!$E$2:$O$432,9,0) -> 137.2 | F78: =ROUND(E78/3*0.6,2) -> 27.44 | G78: =VLOOKUP($B78,[1]面试人员名单!$E$2:$O$432,11,0) -> 75.3 | H78: =IF(G78="缺考","缺考",ROUND(G78*0.4,2)) -> 30.12 | I78: =SUM(F78,H78) -> 57.56 | J78: 否
A79: 77 | B79: 202506140717 | C79: =VLOOKUP($B79,[1]面试人员名单!$E$2:$O$432,5,0) -> 0002绥阳县中医医院 | D79: =VLOOKUP($B79,[1]面试人员名单!$E$2:$O$432,7,0) -> 22109000210 | E79: =VLOOKUP($B79,[1]面试人员名单!$E$2:$O$432,9,0) -> 167.2 | F79: =ROUND(E79/3*0.6,2) -> 33.44 | G79: =VLOOKUP($B79,[1]面试人员名单!$E$2:$O$432,11,0) -> 75.2 | H79: =IF(G79="缺考","缺考",ROUND(G79*0.4,2)) -> 30.08 | I79: =SUM(F79,H79) -> 63.52 | J79: =IF(VLOOKUP($B79,[1]面试人员名单!$E$2:$T$432,14,0)=0,"",VLOOKUP($B79,[1]面试人员名单!$E$2:$T$432,15,0)) -> 是
A80: 78 | B80: 202506140716 | C80: =VLOOKUP($B80,[1]面试人员名单!$E$2:$O$432,5,0) -> 0002绥阳县中医医院 | D80: =VLOOKUP($B80,[1]面试人员名单!$E$2:$O$432,7,0) -> 22109000210 | E80: =VLOOKUP($B80,[1]面试人员名单!$E$2:$O$432,9,0) -> 173.6 | F80: =ROUND(E80/3*0.6,2) -> 34.72 | G80: =VLOOKUP($B80,[1]面试人员名单!$E$2:$O$432,11,0) -> 70.4 | H80: =IF(G80="缺考","缺考",ROUND(G80*0.4,2)) -> 28.16 | I80: =SUM(F80,H80) -> 62.88 | J80: 否
A81: 79 | B81: 202506140718 | C81: =VLOOKUP($B81,[1]面试人员名单!$E$2:$O$432,5,0) -> 0002绥阳县中医医院 | D81: =VLOOKUP($B81,[1]面试人员名单!$E$2:$O$432,7,0) -> 22109000210 | E81: =VLOOKUP($B81,[1]面试人员名单!$E$2:$O$432,9,0) -> 163.6 | F81: =ROUND(E81/3*0.6,2) -> 32.72 | G81: =VLOOKUP($B81,[1]面试人员名单!$E$2:$O$432,11,0) -> 缺考 | H81: =IF(G81="缺考","缺考",ROUND(G81*0.4,2)) -> 缺考 | I81: =SUM(F81,H81) -> 32.72 | J81: 否
A82: 80 | B82: 202506140719 | C82: =VLOOKUP($B82,[1]面试人员名单!$E$2:$O$432,5,0) -> 0002绥阳县中医医院 | D82: =VLOOKUP($B82,[1]面试人员名单!$E$2:$O$432,7,0) -> 22109000211 | E82: =VLOOKUP($B82,[1]面试人员名单!$E$2:$O$432,9,0) -> 165.6 | F82: =ROUND(E82/3*0.6,2) -> 33.12 | G82: =VLOOKUP($B82,[1]面试人员名单!$E$2:$O$432,11,0) -> 78.6 | H82: =IF(G82="缺考","缺考",ROUND(G82*0.4,2)) -> 31.44 | I82: =SUM(F82,H82) -> 64.56 | J82: =IF(VLOOKUP($B82,[1]面试人员名单!$E$2:$T$432,14,0)=0,"",VLOOKUP($B82,[1]面试人员名单!$E$2:$T$432,15,0)) -> 是
A83: 81 | B83: 202506140720 | C83: =VLOOKUP($B83,[1]面试人员名单!$E$2:$O$432,5,0) -> 0002绥阳县中医医院 | D83: =VLOOKUP($B83,[1]面试人员名单!$E$2:$O$432,7,0) -> 22109000212 | E83: =VLOOKUP($B83,[1]面试人员名单!$E$2:$O$432,9,0) -> 172.3 | F83: =ROUND(E83/3*0.6,2) -> 34.46 | G83: =VLOOKUP($B83,[1]面试人员名单!$E$2:$O$432,11,0) -> 77.2 | H83: =IF(G83="缺考","缺考",ROUND(G83*0.4,2)) -> 30.88 | I83: =SUM(F83,H83) -> 65.34 | J83: =IF(VLOOKUP($B83,[1]面试人员名单!$E$2:$T$432,14,0)=0,"",VLOOKUP($B83,[1]面试人员名单!$E$2:$T$432,15,0)) -> 是
A84: 82 | B84: 202506140721 | C84: =VLOOKUP($B84,[1]面试人员名单!$E$2:$O$432,5,0) -> 0002绥阳县中医医院 | D84: =VLOOKUP($B84,[1]面试人员名单!$E$2:$O$432,7,0) -> 22109000212 | E84: =VLOOKUP($B84,[1]面试人员名单!$E$2:$O$432,9,0) -> 161.7 | F84: =ROUND(E84/3*0.6,2) -> 32.34 | G84: =VLOOKUP($B84,[1]面试人员名单!$E$2:$O$432,11,0) -> 76.6 | H84: =IF(G84="缺考","缺考",ROUND(G84*0.4,2)) -> 30.64 | I84: =SUM(F84,H84) -> 62.98 | J84: 否
A85: 83 | B85: 202506140722 | C85: =VLOOKUP($B85,[1]面试人员名单!$E$2:$O$432,5,0) -> 0002绥阳县中医医院 | D85: =VLOOKUP($B85,[1]面试人员名单!$E$2:$O$432,7,0) -> 22109000212 | E85: =VLOOKUP($B85,[1]面试人员名单!$E$2:$O$432,9,0) -> 155.5 | F85: =ROUND(E85/3*0.6,2) -> 31.1 | G85: =VLOOKUP($B85,[1]面试人员名单!$E$2:$O$432,11,0) -> 缺考 | H85: =IF(G85="缺考","缺考",ROUND(G85*0.4,2)) -> 缺考 | I85: =SUM(F85,H85) -> 31.1 | J85: 否
A86: 84 | B86: 202506140723 | C86: =VLOOKUP($B86,[1]面试人员名单!$E$2:$O$432,5,0) -> 0002绥阳县中医医院 | D86: =VLOOKUP($B86,[1]面试人员名单!$E$2:$O$432,7,0) -> 22109000213 | E86: =VLOOKUP($B86,[1]面试人员名单!$E$2:$O$432,9,0) -> 192.7 | F86: =ROUND(E86/3*0.6,2) -> 38.54 | G86: =VLOOKUP($B86,[1]面试人员名单!$E$2:$O$432,11,0) -> 75 | H86: =IF(G86="缺考","缺考",ROUND(G86*0.4,2)) -> 30 | I86: =SUM(F86,H86) -> 68.54 | J86: =IF(VLOOKUP($B86,[1]面试人员名单!$E$2:$T$432,14,0)=0,"",VLOOKUP($B86,[1]面试人员名单!$E$2:$T$432,15,0)) -> 是
A87: 85 | B87: 202506140724 | C87: =VLOOKUP($B87,[1]面试人员名单!$E$2:$O$432,5,0) -> 0002绥阳县中医医院 | D87: =VLOOKUP($B87,[1]面试人员名单!$E$2:$O$432,7,0) -> 22109000213 | E87: =VLOOKUP($B87,[1]面试人员名单!$E$2:$O$432,9,0) -> 166.5 | F87: =ROUND(E87/3*0.6,2) -> 33.3 | G87: =VLOOKUP($B87,[1]面试人员名单!$E$2:$O$432,11,0) -> 73.4 | H87: =IF(G87="缺考","缺考",ROUND(G87*0.4,2)) -> 29.36 | I87: =SUM(F87,H87) -> 62.66 | J87: 否
A88: 86 | B88: 202506140725 | C88: =VLOOKUP($B88,[1]面试人员名单!$E$2:$O$432,5,0) -> 0002绥阳县中医医院 | D88: =VLOOKUP($B88,[1]面试人员名单!$E$2:$O$432,7,0) -> 22109000213 | E88: =VLOOKUP($B88,[1]面试人员名单!$E$2:$O$432,9,0) -> 148 | F88: =ROUND(E88/3*0.6,2) -> 29.6 | G88: =VLOOKUP($B88,[1]面试人员名单!$E$2:$O$432,11,0) -> 71.2 | H88: =IF(G88="缺考","缺考",ROUND(G88*0.4,2)) -> 28.48 | I88: =SUM(F88,H88) -> 58.08 | J88: 否
A89: 87 | B89: 202506140726 | C89: =VLOOKUP($B89,[1]面试人员名单!$E$2:$O$432,5,0) -> 0002绥阳县中医医院 | D89: =VLOOKUP($B89,[1]面试人员名单!$E$2:$O$432,7,0) -> 22109000214 | E89: =VLOOKUP($B89,[1]面试人员名单!$E$2:$O$432,9,0) -> 166 | F89: =ROUND(E89/3*0.6,2) -> 33.2 | G89: =VLOOKUP($B89,[1]面试人员名单!$E$2:$O$432,11,0) -> 80.5 | H89: =IF(G89="缺考","缺考",ROUND(G89*0.4,2)) -> 32.2 | I89: =SUM(F89,H89) -> 65.4 | J89: =IF(VLOOKUP($B89,[1]面试人员名单!$E$2:$T$432,14,0)=0,"",VLOOKUP($B89,[1]面试人员名单!$E$2:$T$432,15,0)) -> 是
A90: 88 | B90: 202506140727 | C90: =VLOOKUP($B90,[1]面试人员名单!$E$2:$O$432,5,0) -> 0002绥阳县中医医院 | D90: =VLOOKUP($B90,[1]面试人员名单!$E$2:$O$432,7,0) -> 22109000214 | E90: =VLOOKUP($B90,[1]面试人员名单!$E$2:$O$432,9,0) -> 154.3 | F90: =ROUND(E90/3*0.6,2) -> 30.86 | G90: =VLOOKUP($B90,[1]面试人员名单!$E$2:$O$432,11,0) -> 76.4 | H90: =IF(G90="缺考","缺考",ROUND(G90*0.4,2)) -> 30.56 | I90: =SUM(F90,H90) -> 61.42 | J90: 否
A91: 89 | B91: 202506140728 | C91: =VLOOKUP($B91,[1]面试人员名单!$E$2:$O$432,5,0) -> 0002绥阳县中医医院 | D91: =VLOOKUP($B91,[1]面试人员名单!$E$2:$O$432,7,0) -> 22109000214 | E91: =VLOOKUP($B91,[1]面试人员名单!$E$2:$O$432,9,0) -> 128 | F91: =ROUND(E91/3*0.6,2) -> 25.6 | G91: =VLOOKUP($B91,[1]面试人员名单!$E$2:$O$432,11,0) -> 70.1 | H91: =IF(G91="缺考","缺考",ROUND(G91*0.4,2)) -> 28.04 | I91: =SUM(F91,H91) -> 53.64 | J91: 否
A92: 90 | B92: 202506140801 | C92: =VLOOKUP($B92,[1]面试人员名单!$E$2:$O$432,5,0) -> 0002绥阳县中医医院 | D92: =VLOOKUP($B92,[1]面试人员名单!$E$2:$O$432,7,0) -> 22109000215 | E92: =VLOOKUP($B92,[1]面试人员名单!$E$2:$O$432,9,0) -> 184.8 | F92: =ROUND(E92/3*0.6,2) -> 36.96 | G92: =VLOOKUP($B92,[1]面试人员名单!$E$2:$O$432,11,0) -> 80.8 | H92: =IF(G92="缺考","缺考",ROUND(G92*0.4,2)) -> 32.32 | I92: =SUM(F92,H92) -> 69.28 | J92: =IF(VLOOKUP($B92,[1]面试人员名单!$E$2:$T$432,14,0)=0,"",VLOOKUP($B92,[1]面试人员名单!$E$2:$T$432,15,0)) -> 是
A93: 91 | B93: 202506140802 | C93: =VLOOKUP($B93,[1]面试人员名单!$E$2:$O$432,5,0) -> 0002绥阳县中医医院 | D93: =VLOOKUP($B93,[1]面试人员名单!$E$2:$O$432,7,0) -> 22109000215 | E93: =VLOOKUP($B93,[1]面试人员名单!$E$2:$O$432,9,0) -> 175.1 | F93: =ROUND(E93/3*0.6,2) -> 35.02 | G93: =VLOOKUP($B93,[1]面试人员名单!$E$2:$O$432,11,0) -> 82.8 | H93: =IF(G93="缺考","缺考",ROUND(G93*0.4,2)) -> 33.12 | I93: =SUM(F93,H93) -> 68.14 | J93: =IF(VLOOKUP($B93,[1]面试人员名单!$E$2:$T$432,14,0)=0,"",VLOOKUP($B93,[1]面试人员名单!$E$2:$T$432,15,0)) -> 是
A94: 92 | B94: 202506140804 | C94: =VLOOKUP($B94,[1]面试人员名单!$E$2:$O$432,5,0) -> 0002绥阳县中医医院 | D94: =VLOOKUP($B94,[1]面试人员名单!$E$2:$O$432,7,0) -> 22109000215 | E94: =VLOOKUP($B94,[1]面试人员名单!$E$2:$O$432,9,0) -> 171.7 | F94: =ROUND(E94/3*0.6,2) -> 34.34 | G94: =VLOOKUP($B94,[1]面试人员名单!$E$2:$O$432,11,0) -> 84.4 | H94: =IF(G94="缺考","缺考",ROUND(G94*0.4,2)) -> 33.76 | I94: =SUM(F94,H94) -> 68.1 | J94: =IF(VLOOKUP($B94,[1]面试人员名单!$E$2:$T$432,14,0)=0,"",VLOOKUP($B94,[1]面试人员名单!$E$2:$T$432,15,0)) -> 是
A95: 93 | B95: 202506140803 | C95: =VLOOKUP($B95,[1]面试人员名单!$E$2:$O$432,5,0) -> 0002绥阳县中医医院 | D95: =VLOOKUP($B95,[1]面试人员名单!$E$2:$O$432,7,0) -> 22109000215 | E95: =VLOOKUP($B95,[1]面试人员名单!$E$2:$O$432,9,0) -> 173.5 | F95: =ROUND(E95/3*0.6,2) -> 34.7 | G95: =VLOOKUP($B95,[1]面试人员名单!$E$2:$O$432,11,0) -> 78.2 | H95: =IF(G95="缺考","缺考",ROUND(G95*0.4,2)) -> 31.28 | I95: =SUM(F95,H95) -> 65.98 | J95: 否
A96: 94 | B96: 202506140807 | C96: =VLOOKUP($B96,[1]面试人员名单!$E$2:$O$432,5,0) -> 0002绥阳县中医医院 | D96: =VLOOKUP($B96,[1]面试人员名单!$E$2:$O$432,7,0) -> 22109000215 | E96: =VLOOKUP($B96,[1]面试人员名单!$E$2:$O$432,9,0) -> 169.8 | F96: =ROUND(E96/3*0.6,2) -> 33.96 | G96: =VLOOKUP($B96,[1]面试人员名单!$E$2:$O$432,11,0) -> 79.2 | H96: =IF(G96="缺考","缺考",ROUND(G96*0.4,2)) -> 31.68 | I96: =SUM(F96,H96) -> 65.64 | J96: 否
A97: 95 | B97: 202506140805 | C97: =VLOOKUP($B97,[1]面试人员名单!$E$2:$O$432,5,0) -> 0002绥阳县中医医院 | D97: =VLOOKUP($B97,[1]面试人员名单!$E$2:$O$432,7,0) -> 22109000215 | E97: =VLOOKUP($B97,[1]面试人员名单!$E$2:$O$432,9,0) -> 171 | F97: =ROUND(E97/3*0.6,2) -> 34.2 | G97: =VLOOKUP($B97,[1]面试人员名单!$E$2:$O$432,11,0) -> 77.2 | H97: =IF(G97="缺考","缺考",ROUND(G97*0.4,2)) -> 30.88 | I97: =SUM(F97,H97) -> 65.08 | J97: 否
A98: 96 | B98: 202506140808 | C98: =VLOOKUP($B98,[1]面试人员名单!$E$2:$O$432,5,0) -> 0002绥阳县中医医院 | D98: =VLOOKUP($B98,[1]面试人员名单!$E$2:$O$432,7,0) -> 22109000215 | E98: =VLOOKUP($B98,[1]面试人员名单!$E$2:$O$432,9,0) -> 169 | F98: =ROUND(E98/3*0.6,2) -> 33.8 | G98: =VLOOKUP($B98,[1]面试人员名单!$E$2:$O$432,11,0) -> 75.8 | H98: =IF(G98="缺考","缺考",ROUND(G98*0.4,2)) -> 30.32 | I98: =SUM(F98,H98) -> 64.12 | J98: 否
A99: 97 | B99: 202506140806 | C99: =VLOOKUP($B99,[1]面试人员名单!$E$2:$O$432,5,0) -> 0002绥阳县中医医院 | D99: =VLOOKUP($B99,[1]面试人员名单!$E$2:$O$432,7,0) -> 22109000215 | E99: =VLOOKUP($B99,[1]面试人员名单!$E$2:$O$432,9,0) -> 170.4 | F99: =ROUND(E99/3*0.6,2) -> 34.08 | G99: =VLOOKUP($B99,[1]面试人员名单!$E$2:$O$432,11,0) -> 73 | H99: =IF(G99="缺考","缺考",ROUND(G99*0.4,2)) -> 29.2 | I99: =SUM(F99,H99) -> 63.28 | J99: 否
A100: 98 | B100: 202506140809 | C100: =VLOOKUP($B100,[1]面试人员名单!$E$2:$O$432,5,0) -> 0002绥阳县中医医院 | D100: =VLOOKUP($B100,[1]面试人员名单!$E$2:$O$432,7,0) -> 22109000215 | E100: =VLOOKUP($B100,[1]面试人员名单!$E$2:$O$432,9,0) -> 162.8 | F100: =ROUND(E100/3*0.6,2) -> 32.56 | G100: =VLOOKUP($B100,[1]面试人员名单!$E$2:$O$432,11,0) -> 74.2 | H100: =IF(G100="缺考","缺考",ROUND(G100*0.4,2)) -> 29.68 | I100: =SUM(F100,H100) -> 62.24 | J100: 否
...
